BEGIN:VCALENDAR
VERSION:2.0
PRODID:-//Frank Lloyd Wright&#039;s Allen House - ECPv6.15.20//NONSGML v1.0//EN
CALSCALE:GREGORIAN
METHOD:PUBLISH
X-WR-CALNAME:Frank Lloyd Wright&#039;s Allen House
X-ORIGINAL-URL:https://flwrightwichita.org
X-WR-CALDESC:Events for Frank Lloyd Wright&#039;s Allen House
REFRESH-INTERVAL;VALUE=DURATION:PT1H
X-Robots-Tag:noindex
X-PUBLISHED-TTL:PT1H
BEGIN:VTIMEZONE
TZID:America/Chicago
BEGIN:DAYLIGHT
TZOFFSETFROM:-0600
TZOFFSETTO:-0500
TZNAME:CDT
DTSTART:20240310T080000
END:DAYLIGHT
BEGIN:STANDARD
TZOFFSETFROM:-0500
TZOFFSETTO:-0600
TZNAME:CST
DTSTART:20241103T070000
END:STANDARD
BEGIN:DAYLIGHT
TZOFFSETFROM:-0600
TZOFFSETTO:-0500
TZNAME:CDT
DTSTART:20250309T080000
END:DAYLIGHT
BEGIN:STANDARD
TZOFFSETFROM:-0500
TZOFFSETTO:-0600
TZNAME:CST
DTSTART:20251102T070000
END:STANDARD
BEGIN:DAYLIGHT
TZOFFSETFROM:-0600
TZOFFSETTO:-0500
TZNAME:CDT
DTSTART:20260308T080000
END:DAYLIGHT
BEGIN:STANDARD
TZOFFSETFROM:-0500
TZOFFSETTO:-0600
TZNAME:CST
DTSTART:20261101T070000
END:STANDARD
END:VTIMEZONE
BEGIN:VEVENT
DTSTART;TZID=America/Chicago:20250606T183000
DTEND;TZID=America/Chicago:20250606T213000
DTSTAMP:20260420T114431
CREATED:20250327T200227Z
LAST-MODIFIED:20250607T132822Z
UID:10001202-1749234600-1749245400@flwrightwichita.org
SUMMARY:SOLD OUT-6:30 PM-Celebrating 158 Years of Being Wright
DESCRIPTION:Come celebrate Frank Lloyd Wright's birthday with us! Join us for an evening of entertainment and light refreshments on the terrace\, as you self-guide through the Allen House admiring the beauty of the house at your own pace. \nThis experience is ideal for a more casual and organic engagement with the gardens and home interior\, with docents on hand to answer questions throughout. \n\nEnjoy live music in the courtyard by The Jazz Cats! \nTickets are limited. \n\n$25/Person\n$15/Members
URL:https://flwrightwichita.org/event/630-pm-celebrating-158-years-of-being-wright/
LOCATION:Frank Lloyd Wright Home Tour\, 255 N. Roosevelt\, Wichita\, KS\, 67208\, United States
CATEGORIES:Events
ATTACH;FMTTYPE=image/png:https://flwrightwichita.org/wp-content/uploads/2025/03/Celebrate-158-Years-of-Being-Wright-e1743105867312.png
GEO:37.6897851;-97.2923455
X-APPLE-STRUCTURED-LOCATION;VALUE=URI;X-ADDRESS=Frank Lloyd Wright Home Tour 255 N. Roosevelt Wichita KS 67208 United States;X-APPLE-RADIUS=500;X-TITLE=255 N. Roosevelt:geo:-97.2923455,37.6897851
END:VEVENT
END:VCALENDAR