BEGIN:VCALENDAR
VERSION:2.0
PRODID:-//Frank Lloyd Wright&#039;s Allen House - ECPv6.15.20//NONSGML v1.0//EN
CALSCALE:GREGORIAN
METHOD:PUBLISH
X-WR-CALNAME:Frank Lloyd Wright&#039;s Allen House
X-ORIGINAL-URL:https://flwrightwichita.org
X-WR-CALDESC:Events for Frank Lloyd Wright&#039;s Allen House
REFRESH-INTERVAL;VALUE=DURATION:PT1H
X-Robots-Tag:noindex
X-PUBLISHED-TTL:PT1H
BEGIN:VTIMEZONE
TZID:America/Chicago
BEGIN:DAYLIGHT
TZOFFSETFROM:-0600
TZOFFSETTO:-0500
TZNAME:CDT
DTSTART:20240310T080000
END:DAYLIGHT
BEGIN:STANDARD
TZOFFSETFROM:-0500
TZOFFSETTO:-0600
TZNAME:CST
DTSTART:20241103T070000
END:STANDARD
BEGIN:DAYLIGHT
TZOFFSETFROM:-0600
TZOFFSETTO:-0500
TZNAME:CDT
DTSTART:20250309T080000
END:DAYLIGHT
BEGIN:STANDARD
TZOFFSETFROM:-0500
TZOFFSETTO:-0600
TZNAME:CST
DTSTART:20251102T070000
END:STANDARD
BEGIN:DAYLIGHT
TZOFFSETFROM:-0600
TZOFFSETTO:-0500
TZNAME:CDT
DTSTART:20260308T080000
END:DAYLIGHT
BEGIN:STANDARD
TZOFFSETFROM:-0500
TZOFFSETTO:-0600
TZNAME:CST
DTSTART:20261101T070000
END:STANDARD
END:VTIMEZONE
BEGIN:VEVENT
DTSTART;TZID=America/Chicago:20251114T173000
DTEND;TZID=America/Chicago:20251114T203000
DTSTAMP:20260423T163832
CREATED:20251002T223236Z
LAST-MODIFIED:20251025T175930Z
UID:10001494-1763141400-1763152200@flwrightwichita.org
SUMMARY:5:30-8:30 PM-Holiday Wright Style Event
DESCRIPTION:Holiday Wright Style - Winter Fundraiser\n\n\nStep back to 1918 and celebrate the holidays as a guest of Henry and Elsie Allen at our annual Holiday Open House! Tour the home\, decked with seasonal trimmings of the era\, live music\, and then enjoy complimentary refreshments on the terrace.\n\n\n\nIf you purchase an opportunity ticket\, not only will you raise funds for Frank Lloyd Wright's Allen House\, but you could also win one of several staycation-themed baskets! Thanks to donations from Sedgwick County Zoo\, Kansas Aviation Museum\, Cosmosphere\, City Arts\, Mark Arts\, Tanganyika Wildlife Park\, Exploration Place\, Wichita Brewing Co.\, Moka's\, Cheri's Bakery\, Viva La Olive\, Chicken 'n' Pickle...and more!\n\n\n\nAnd don't forget holiday shopping in the Gilded Garage Gift Shop which includes exclusive Allen House products\, Motawi Tiles\, Wright holiday items\, and of course the Allen house book!\n\n\nHoliday Wright Style\, Friday November 14\, 5:30-8:30 p.m. $25 per ticket. Members go free!\n\n\n\nPurchase your tickets at https://flwrightwichita.org/.../530-830-pm-holiday.../ or call 316-687-1027 for tickets and reservations.
URL:https://flwrightwichita.org/event/530-830-pm-holiday-wright-style-event/
LOCATION:Frank Lloyd Wright Home Tour\, 255 N. Roosevelt\, Wichita\, KS\, 67208\, United States
CATEGORIES:Paid Tours
GEO:37.6897851;-97.2923455
X-APPLE-STRUCTURED-LOCATION;VALUE=URI;X-ADDRESS=Frank Lloyd Wright Home Tour 255 N. Roosevelt Wichita KS 67208 United States;X-APPLE-RADIUS=500;X-TITLE=255 N. Roosevelt:geo:-97.2923455,37.6897851
END:VEVENT
END:VCALENDAR