BEGIN:VCALENDAR
VERSION:2.0
PRODID:-//Frank Lloyd Wright&#039;s Allen House - ECPv6.15.20//NONSGML v1.0//EN
CALSCALE:GREGORIAN
METHOD:PUBLISH
X-ORIGINAL-URL:https://flwrightwichita.org
X-WR-CALDESC:Events for Frank Lloyd Wright&#039;s Allen House
REFRESH-INTERVAL;VALUE=DURATION:PT1H
X-Robots-Tag:noindex
X-PUBLISHED-TTL:PT1H
BEGIN:VTIMEZONE
TZID:America/Chicago
BEGIN:DAYLIGHT
TZOFFSETFROM:-0600
TZOFFSETTO:-0500
TZNAME:CDT
DTSTART:20240310T080000
END:DAYLIGHT
BEGIN:STANDARD
TZOFFSETFROM:-0500
TZOFFSETTO:-0600
TZNAME:CST
DTSTART:20241103T070000
END:STANDARD
BEGIN:DAYLIGHT
TZOFFSETFROM:-0600
TZOFFSETTO:-0500
TZNAME:CDT
DTSTART:20250309T080000
END:DAYLIGHT
BEGIN:STANDARD
TZOFFSETFROM:-0500
TZOFFSETTO:-0600
TZNAME:CST
DTSTART:20251102T070000
END:STANDARD
BEGIN:DAYLIGHT
TZOFFSETFROM:-0600
TZOFFSETTO:-0500
TZNAME:CDT
DTSTART:20260308T080000
END:DAYLIGHT
BEGIN:STANDARD
TZOFFSETFROM:-0500
TZOFFSETTO:-0600
TZNAME:CST
DTSTART:20261101T070000
END:STANDARD
END:VTIMEZONE
BEGIN:VEVENT
DTSTART;TZID=America/Chicago:20251130T130000
DTEND;TZID=America/Chicago:20251130T143000
DTSTAMP:20260423T141230
CREATED:20251011T175752Z
LAST-MODIFIED:20251125T152913Z
UID:10001578-1764507600-1764513000@flwrightwichita.org
SUMMARY:SOLD OUT 1:00 PM-Standard Tour
DESCRIPTION:The Allen House will be decorated for the holidays November 14-December 31\, 2025. \nFor those Wright enthusiasts who want to learn about the details\, design and history behind the Allen House\, this tour is for you! 90-minute guided tour of the Frank Lloyd Wright Allen House includes all the main rooms\, second floor and interior gardens. This is a walking tour\, and you must be able to navigate stairs. The garden house is NOT included on this tour. (NO interior photography or backpacks allowed.) \nSpecials in the gift shop to support Museum Store Sunday!  What is Museum Store Sunday you might ask? \nLaunched in 2017\, Museum Store Sunday is a global advocacy campaign that communicates the value and importance of museum stores directly to the general public. Happening annually on the Sunday of the Thanksgiving holiday weekend\, Museum Store Sunday laid claim to the previously vacant day of the weekend which encompasses Black Friday\, Shop Small Saturday\, and further beyond with Cyber Monday and Giving Tuesday. \nThis year\, Museum Store Sunday happens on November 30\, 2025 when over 2\,200 museum stores representing all fifty states and the District of Columbia\, twenty five countries\, and five continents will offer inspired shopping at your favorite museums and cultural institutions. While there is only one Museum Store Sunday every year\, consumers are encouraged to “Shop with Purpose” and support museum stores throughout the year.  For more information about MSS\, please visit:What is Museum Store Sunday
URL:https://flwrightwichita.org/event/100-pm-standard-tour-278/
LOCATION:Frank Lloyd Wright Home Tour\, 255 N. Roosevelt\, Wichita\, KS\, 67208\, United States
CATEGORIES:Paid Tours
ATTACH;FMTTYPE=image/png:https://flwrightwichita.org/wp-content/uploads/2025/10/MSS_Stacked_White.png
GEO:37.6897851;-97.2923455
X-APPLE-STRUCTURED-LOCATION;VALUE=URI;X-ADDRESS=Frank Lloyd Wright Home Tour 255 N. Roosevelt Wichita KS 67208 United States;X-APPLE-RADIUS=500;X-TITLE=255 N. Roosevelt:geo:-97.2923455,37.6897851
END:VEVENT
BEGIN:VEVENT
DTSTART;TZID=America/Chicago:20251130T140000
DTEND;TZID=America/Chicago:20251130T153000
DTSTAMP:20260423T141230
CREATED:20251011T175928Z
LAST-MODIFIED:20251128T233519Z
UID:10001579-1764511200-1764516600@flwrightwichita.org
SUMMARY:SOLD OUT 2:00 PM-Standard Tour
DESCRIPTION:The Allen House will be decorated for the holidays November 14-December 31\, 2025. \nFor those Wright enthusiasts who want to learn about the details\, design and history behind the Allen House\, this tour is for you! 90-minute guided tour of the Frank Lloyd Wright Allen House includes all the main rooms\, second floor and interior gardens. This is a walking tour\, and you must be able to navigate stairs. The garden house is NOT included on this tour. (NO interior photography or backpacks allowed.) \nSpecials in the gift shop to support Museum Store Sunday!  What is Museum Store Sunday you might ask? \nLaunched in 2017\, Museum Store Sunday is a global advocacy campaign that communicates the value and importance of museum stores directly to the general public. Happening annually on the Sunday of the Thanksgiving holiday weekend\, Museum Store Sunday laid claim to the previously vacant day of the weekend which encompasses Black Friday\, Shop Small Saturday\, and further beyond with Cyber Monday and Giving Tuesday. \nThis year\, Museum Store Sunday happens on November 30\, 2025 when over 2\,200 museum stores representing all fifty states and the District of Columbia\, twenty five countries\, and five continents will offer inspired shopping at your favorite museums and cultural institutions. While there is only one Museum Store Sunday every year\, consumers are encouraged to “Shop with Purpose” and support museum stores throughout the year.  For more information about MSS\, please visit:What is Museum Store Sunday
URL:https://flwrightwichita.org/event/200-pm-standard-tour-15/
LOCATION:Frank Lloyd Wright Home Tour\, 255 N. Roosevelt\, Wichita\, KS\, 67208\, United States
CATEGORIES:Paid Tours
ATTACH;FMTTYPE=image/png:https://flwrightwichita.org/wp-content/uploads/2025/10/MSS_Stacked_White.png
GEO:37.6897851;-97.2923455
X-APPLE-STRUCTURED-LOCATION;VALUE=URI;X-ADDRESS=Frank Lloyd Wright Home Tour 255 N. Roosevelt Wichita KS 67208 United States;X-APPLE-RADIUS=500;X-TITLE=255 N. Roosevelt:geo:-97.2923455,37.6897851
END:VEVENT
END:VCALENDAR