BEGIN:VCALENDAR
VERSION:2.0
PRODID:-//Frank Lloyd Wright&#039;s Allen House - ECPv6.15.20//NONSGML v1.0//EN
CALSCALE:GREGORIAN
METHOD:PUBLISH
X-ORIGINAL-URL:https://flwrightwichita.org
X-WR-CALDESC:Events for Frank Lloyd Wright&#039;s Allen House
REFRESH-INTERVAL;VALUE=DURATION:PT1H
X-Robots-Tag:noindex
X-PUBLISHED-TTL:PT1H
BEGIN:VTIMEZONE
TZID:America/Chicago
BEGIN:DAYLIGHT
TZOFFSETFROM:-0600
TZOFFSETTO:-0500
TZNAME:CDT
DTSTART:20240310T080000
END:DAYLIGHT
BEGIN:STANDARD
TZOFFSETFROM:-0500
TZOFFSETTO:-0600
TZNAME:CST
DTSTART:20241103T070000
END:STANDARD
BEGIN:DAYLIGHT
TZOFFSETFROM:-0600
TZOFFSETTO:-0500
TZNAME:CDT
DTSTART:20250309T080000
END:DAYLIGHT
BEGIN:STANDARD
TZOFFSETFROM:-0500
TZOFFSETTO:-0600
TZNAME:CST
DTSTART:20251102T070000
END:STANDARD
BEGIN:DAYLIGHT
TZOFFSETFROM:-0600
TZOFFSETTO:-0500
TZNAME:CDT
DTSTART:20260308T080000
END:DAYLIGHT
BEGIN:STANDARD
TZOFFSETFROM:-0500
TZOFFSETTO:-0600
TZNAME:CST
DTSTART:20261101T070000
END:STANDARD
END:VTIMEZONE
BEGIN:VEVENT
DTSTART;TZID=America/Chicago:20251205T100000
DTEND;TZID=America/Chicago:20251205T130000
DTSTAMP:20260423T153810
CREATED:20251003T204127Z
LAST-MODIFIED:20251003T204127Z
UID:10001528-1764928800-1764939600@flwrightwichita.org
SUMMARY:10:00 AM-Grand Tour
DESCRIPTION:The Allen House will be decorated for the holidays November 14-December31\, 2025. \nEnjoy a deeper look at Frank Lloyd Wright’s Allen House and Wright’s Architecture. This guided tour will provide an extensive interpretation of the house details and the relationship between Wright and his architecture led by experienced Docents. You will be allowed more time in each room to experience the details of Wright’s architecture and also photograph details for personal use. This tour offers access to the garden house which is not included on other tours. The garden house contains a sampling of items designed by Wright during his lifetime. This is a walking tour\, and you must be able to navigate stairs. Plan to spend 2-3 hours in the house/gardens. Interior still photography is allowed for personal use only. In order to receive a quality tour experience\, we limit the number of visitors on this tour. (Not recommended for children under the age of 12.)
URL:https://flwrightwichita.org/event/1000-am-grand-tour-173/
LOCATION:Frank Lloyd Wright Home Tour\, 255 N. Roosevelt\, Wichita\, KS\, 67208\, United States
CATEGORIES:Paid Tours
ATTACH;FMTTYPE=image/jpeg:https://flwrightwichita.org/wp-content/uploads/2025/10/Christmas-Tree-2023-IMG_6759-scaled-e1759523951929.jpg
GEO:37.6897851;-97.2923455
X-APPLE-STRUCTURED-LOCATION;VALUE=URI;X-ADDRESS=Frank Lloyd Wright Home Tour 255 N. Roosevelt Wichita KS 67208 United States;X-APPLE-RADIUS=500;X-TITLE=255 N. Roosevelt:geo:-97.2923455,37.6897851
END:VEVENT
BEGIN:VEVENT
DTSTART;TZID=America/Chicago:20251205T113000
DTEND;TZID=America/Chicago:20251205T130000
DTSTAMP:20260423T153810
CREATED:20251003T203149Z
LAST-MODIFIED:20251003T203149Z
UID:10001522-1764934200-1764939600@flwrightwichita.org
SUMMARY:11:30 AM-Standard Tour
DESCRIPTION:The Allen House will be decorated for the holidays November 14-December 31\, 2025. \nFor those Wright enthusiasts who want to learn about the details\, design and history behind the Allen House\, this tour is for you! 90-minute guided tour of the Frank Lloyd Wright Allen House includes all the main rooms\, second floor and interior gardens. This is a walking tour\, and you must be able to navigate stairs. The garden house is NOT included on this tour. (NO interior photography or backpacks allowed.)
URL:https://flwrightwichita.org/event/1130-am-standard-tour-268/
LOCATION:Frank Lloyd Wright Home Tour\, 255 N. Roosevelt\, Wichita\, KS\, 67208\, United States
CATEGORIES:Paid Tours
ATTACH;FMTTYPE=image/jpeg:https://flwrightwichita.org/wp-content/uploads/2025/10/DSC00707-scaled-e1759523179719.jpg
GEO:37.6897851;-97.2923455
X-APPLE-STRUCTURED-LOCATION;VALUE=URI;X-ADDRESS=Frank Lloyd Wright Home Tour 255 N. Roosevelt Wichita KS 67208 United States;X-APPLE-RADIUS=500;X-TITLE=255 N. Roosevelt:geo:-97.2923455,37.6897851
END:VEVENT
BEGIN:VEVENT
DTSTART;TZID=America/Chicago:20251205T130000
DTEND;TZID=America/Chicago:20251205T143000
DTSTAMP:20260423T153810
CREATED:20251003T203256Z
LAST-MODIFIED:20251003T203256Z
UID:10001523-1764939600-1764945000@flwrightwichita.org
SUMMARY:1:00 PM-Standard Tour
DESCRIPTION:The Allen House will be decorated for the holidays November 14-December 31\, 2025. \nFor those Wright enthusiasts who want to learn about the details\, design and history behind the Allen House\, this tour is for you! 90-minute guided tour of the Frank Lloyd Wright Allen House includes all the main rooms\, second floor and interior gardens. This is a walking tour\, and you must be able to navigate stairs. The garden house is NOT included on this tour. (NO interior photography or backpacks allowed.)
URL:https://flwrightwichita.org/event/100-pm-standard-tour-265/
LOCATION:Frank Lloyd Wright Home Tour\, 255 N. Roosevelt\, Wichita\, KS\, 67208\, United States
CATEGORIES:Paid Tours
ATTACH;FMTTYPE=image/jpeg:https://flwrightwichita.org/wp-content/uploads/2025/10/DSC00707-scaled-e1759523179719.jpg
GEO:37.6897851;-97.2923455
X-APPLE-STRUCTURED-LOCATION;VALUE=URI;X-ADDRESS=Frank Lloyd Wright Home Tour 255 N. Roosevelt Wichita KS 67208 United States;X-APPLE-RADIUS=500;X-TITLE=255 N. Roosevelt:geo:-97.2923455,37.6897851
END:VEVENT
BEGIN:VEVENT
DTSTART;TZID=America/Chicago:20251205T140000
DTEND;TZID=America/Chicago:20251205T153000
DTSTAMP:20260423T153810
CREATED:20251119T213315Z
LAST-MODIFIED:20251203T173310Z
UID:10001586-1764943200-1764948600@flwrightwichita.org
SUMMARY:2:00 PM-Elsie Allen Art Tour
DESCRIPTION:Have you ever wondered about the history behind the artwork inside the Allen House?  Come experience an in-depth look at examples of Elsie Allen’s art collection.  Elsie was a major art collector and advocate in Wichita.  She owned over 400 pieces of art at the time of her death.  This tour will explore original pieces of art that are exhibited in the home.  This tour focus is on the artwork but will also include a “mini-tour” of the home.  Tour length is approx. one hour.  This is a walking tour throughout the home and stairs must be navigated. \nFor a more in-depth tour about the home itself\, please consider our Guided Standard Tour or Grand Tour.
URL:https://flwrightwichita.org/event/200-pm-elsie-allen-art-tour-10/
LOCATION:Frank Lloyd Wright Home Tour\, 255 N. Roosevelt\, Wichita\, KS\, 67208\, United States
CATEGORIES:Paid Tours
ATTACH;FMTTYPE=image/jpeg:https://flwrightwichita.org/wp-content/uploads/2025/02/Elsie-Allen-Art-Tours-e1740077552800.jpg
GEO:37.6897851;-97.2923455
X-APPLE-STRUCTURED-LOCATION;VALUE=URI;X-ADDRESS=Frank Lloyd Wright Home Tour 255 N. Roosevelt Wichita KS 67208 United States;X-APPLE-RADIUS=500;X-TITLE=255 N. Roosevelt:geo:-97.2923455,37.6897851
END:VEVENT
BEGIN:VEVENT
DTSTART;TZID=America/Chicago:20251205T190000
DTEND;TZID=America/Chicago:20251205T203000
DTSTAMP:20260423T153810
CREATED:20251204T204748Z
LAST-MODIFIED:20251204T204748Z
UID:10001592-1764961200-1764966600@flwrightwichita.org
SUMMARY:7:00 PM-Private Tour
DESCRIPTION:
URL:https://flwrightwichita.org/event/700-pm-private-tour/
LOCATION:Frank Lloyd Wright Home Tour\, 255 N. Roosevelt\, Wichita\, KS\, 67208\, United States
CATEGORIES:Paid Tours
ATTACH;FMTTYPE=image/jpeg:https://flwrightwichita.org/wp-content/uploads/2025/12/1764880861.3607988-0E455B97-D8CC-41D6-B148-C0891B2BB9A4.jpg
GEO:37.6897851;-97.2923455
X-APPLE-STRUCTURED-LOCATION;VALUE=URI;X-ADDRESS=Frank Lloyd Wright Home Tour 255 N. Roosevelt Wichita KS 67208 United States;X-APPLE-RADIUS=500;X-TITLE=255 N. Roosevelt:geo:-97.2923455,37.6897851
END:VEVENT
END:VCALENDAR