BEGIN:VCALENDAR
VERSION:2.0
PRODID:-//Frank Lloyd Wright&#039;s Allen House - ECPv6.15.20//NONSGML v1.0//EN
CALSCALE:GREGORIAN
METHOD:PUBLISH
X-ORIGINAL-URL:https://flwrightwichita.org
X-WR-CALDESC:Events for Frank Lloyd Wright&#039;s Allen House
REFRESH-INTERVAL;VALUE=DURATION:PT1H
X-Robots-Tag:noindex
X-PUBLISHED-TTL:PT1H
BEGIN:VTIMEZONE
TZID:America/Chicago
BEGIN:DAYLIGHT
TZOFFSETFROM:-0600
TZOFFSETTO:-0500
TZNAME:CDT
DTSTART:20240310T080000
END:DAYLIGHT
BEGIN:STANDARD
TZOFFSETFROM:-0500
TZOFFSETTO:-0600
TZNAME:CST
DTSTART:20241103T070000
END:STANDARD
BEGIN:DAYLIGHT
TZOFFSETFROM:-0600
TZOFFSETTO:-0500
TZNAME:CDT
DTSTART:20250309T080000
END:DAYLIGHT
BEGIN:STANDARD
TZOFFSETFROM:-0500
TZOFFSETTO:-0600
TZNAME:CST
DTSTART:20251102T070000
END:STANDARD
BEGIN:DAYLIGHT
TZOFFSETFROM:-0600
TZOFFSETTO:-0500
TZNAME:CDT
DTSTART:20260308T080000
END:DAYLIGHT
BEGIN:STANDARD
TZOFFSETFROM:-0500
TZOFFSETTO:-0600
TZNAME:CST
DTSTART:20261101T070000
END:STANDARD
END:VTIMEZONE
BEGIN:VEVENT
DTSTART;TZID=America/Chicago:20251206T100000
DTEND;TZID=America/Chicago:20251206T110000
DTSTAMP:20260423T153718
CREATED:20251003T204941Z
LAST-MODIFIED:20251007T184017Z
UID:10001530-1765015200-1765018800@flwrightwichita.org
SUMMARY:SOLD OUT 10:00 AM-Historic 1927 Hillcrest Apartment Building Tour
DESCRIPTION:Towering over College Hill\, The Hillcrest was built a century ago to the upper-class standards of a bygone age.  This well preserved\, historic building has its own parking garage\, with valet parking\, provides its residents with a 24-hour front desk concierge\, and boasts one of the few remaining manually operated elevators in Kansas.  The inside of this historic gem is rarely seen by any but its residents and their guests\, but we've arranged an opportunity for this special tour. \nTour length:  1 hour \nMeeting Place:  115 S. Rutan St\, 67218
URL:https://flwrightwichita.org/event/1000-am-historic-1927-hillcrest-apartment-building-tour/
LOCATION:Frank Lloyd Wright Home Tour\, 255 N. Roosevelt\, Wichita\, KS\, 67208\, United States
CATEGORIES:Paid Tours
GEO:37.6897851;-97.2923455
X-APPLE-STRUCTURED-LOCATION;VALUE=URI;X-ADDRESS=Frank Lloyd Wright Home Tour 255 N. Roosevelt Wichita KS 67208 United States;X-APPLE-RADIUS=500;X-TITLE=255 N. Roosevelt:geo:-97.2923455,37.6897851
END:VEVENT
BEGIN:VEVENT
DTSTART;TZID=America/Chicago:20251206T100000
DTEND;TZID=America/Chicago:20251206T130000
DTSTAMP:20260423T153718
CREATED:20251003T204245Z
LAST-MODIFIED:20251003T204245Z
UID:10001529-1765015200-1765026000@flwrightwichita.org
SUMMARY:10:00 AM-Grand Tour
DESCRIPTION:The Allen House will be decorated for the holidays November 14-December31\, 2025. \nEnjoy a deeper look at Frank Lloyd Wright’s Allen House and Wright’s Architecture. This guided tour will provide an extensive interpretation of the house details and the relationship between Wright and his architecture led by experienced Docents. You will be allowed more time in each room to experience the details of Wright’s architecture and also photograph details for personal use. This tour offers access to the garden house which is not included on other tours. The garden house contains a sampling of items designed by Wright during his lifetime. This is a walking tour\, and you must be able to navigate stairs. Plan to spend 2-3 hours in the house/gardens. Interior still photography is allowed for personal use only. In order to receive a quality tour experience\, we limit the number of visitors on this tour. (Not recommended for children under the age of 12.)
URL:https://flwrightwichita.org/event/1000-am-grand-tour-174/
LOCATION:Frank Lloyd Wright Home Tour\, 255 N. Roosevelt\, Wichita\, KS\, 67208\, United States
CATEGORIES:Paid Tours
ATTACH;FMTTYPE=image/jpeg:https://flwrightwichita.org/wp-content/uploads/2025/10/Christmas-Tree-2023-IMG_6759-scaled-e1759523951929.jpg
GEO:37.6897851;-97.2923455
X-APPLE-STRUCTURED-LOCATION;VALUE=URI;X-ADDRESS=Frank Lloyd Wright Home Tour 255 N. Roosevelt Wichita KS 67208 United States;X-APPLE-RADIUS=500;X-TITLE=255 N. Roosevelt:geo:-97.2923455,37.6897851
END:VEVENT
BEGIN:VEVENT
DTSTART;TZID=America/Chicago:20251206T113000
DTEND;TZID=America/Chicago:20251206T130000
DTSTAMP:20260423T153718
CREATED:20251003T203440Z
LAST-MODIFIED:20251003T203440Z
UID:10001524-1765020600-1765026000@flwrightwichita.org
SUMMARY:11:30 AM-Standard Tour
DESCRIPTION:The Allen House will be decorated for the holidays November 14-December 31\, 2025. \nFor those Wright enthusiasts who want to learn about the details\, design and history behind the Allen House\, this tour is for you! 90-minute guided tour of the Frank Lloyd Wright Allen House includes all the main rooms\, second floor and interior gardens. This is a walking tour\, and you must be able to navigate stairs. The garden house is NOT included on this tour. (NO interior photography or backpacks allowed.)
URL:https://flwrightwichita.org/event/1130-am-standard-tour-269/
LOCATION:Frank Lloyd Wright Home Tour\, 255 N. Roosevelt\, Wichita\, KS\, 67208\, United States
CATEGORIES:Paid Tours
ATTACH;FMTTYPE=image/jpeg:https://flwrightwichita.org/wp-content/uploads/2025/10/DSC00707-scaled-e1759523179719.jpg
GEO:37.6897851;-97.2923455
X-APPLE-STRUCTURED-LOCATION;VALUE=URI;X-ADDRESS=Frank Lloyd Wright Home Tour 255 N. Roosevelt Wichita KS 67208 United States;X-APPLE-RADIUS=500;X-TITLE=255 N. Roosevelt:geo:-97.2923455,37.6897851
END:VEVENT
BEGIN:VEVENT
DTSTART;TZID=America/Chicago:20251206T130000
DTEND;TZID=America/Chicago:20251206T143000
DTSTAMP:20260423T153718
CREATED:20251003T203550Z
LAST-MODIFIED:20251003T203550Z
UID:10001525-1765026000-1765031400@flwrightwichita.org
SUMMARY:1:00 PM-Standard Tour
DESCRIPTION:The Allen House will be decorated for the holidays November 14-December 31\, 2025. \nFor those Wright enthusiasts who want to learn about the details\, design and history behind the Allen House\, this tour is for you! 90-minute guided tour of the Frank Lloyd Wright Allen House includes all the main rooms\, second floor and interior gardens. This is a walking tour\, and you must be able to navigate stairs. The garden house is NOT included on this tour. (NO interior photography or backpacks allowed.)
URL:https://flwrightwichita.org/event/100-pm-standard-tour-266/
LOCATION:Frank Lloyd Wright Home Tour\, 255 N. Roosevelt\, Wichita\, KS\, 67208\, United States
CATEGORIES:Paid Tours
ATTACH;FMTTYPE=image/jpeg:https://flwrightwichita.org/wp-content/uploads/2025/10/DSC00707-scaled-e1759523179719.jpg
GEO:37.6897851;-97.2923455
X-APPLE-STRUCTURED-LOCATION;VALUE=URI;X-ADDRESS=Frank Lloyd Wright Home Tour 255 N. Roosevelt Wichita KS 67208 United States;X-APPLE-RADIUS=500;X-TITLE=255 N. Roosevelt:geo:-97.2923455,37.6897851
END:VEVENT
BEGIN:VEVENT
DTSTART;TZID=America/Chicago:20251206T133000
DTEND;TZID=America/Chicago:20251206T150000
DTSTAMP:20260423T153718
CREATED:20251003T203658Z
LAST-MODIFIED:20251003T203658Z
UID:10001526-1765027800-1765033200@flwrightwichita.org
SUMMARY:1:30 PM-Standard Tour
DESCRIPTION:The Allen House will be decorated for the holidays November 14-December 31\, 2025. \nFor those Wright enthusiasts who want to learn about the details\, design and history behind the Allen House\, this tour is for you! 90-minute guided tour of the Frank Lloyd Wright Allen House includes all the main rooms\, second floor and interior gardens. This is a walking tour\, and you must be able to navigate stairs. The garden house is NOT included on this tour. (NO interior photography or backpacks allowed.)
URL:https://flwrightwichita.org/event/130-pm-standard-tour-122/
LOCATION:Frank Lloyd Wright Home Tour\, 255 N. Roosevelt\, Wichita\, KS\, 67208\, United States
CATEGORIES:Paid Tours
ATTACH;FMTTYPE=image/jpeg:https://flwrightwichita.org/wp-content/uploads/2025/10/DSC00707-scaled-e1759523179719.jpg
GEO:37.6897851;-97.2923455
X-APPLE-STRUCTURED-LOCATION;VALUE=URI;X-ADDRESS=Frank Lloyd Wright Home Tour 255 N. Roosevelt Wichita KS 67208 United States;X-APPLE-RADIUS=500;X-TITLE=255 N. Roosevelt:geo:-97.2923455,37.6897851
END:VEVENT
BEGIN:VEVENT
DTSTART;TZID=America/Chicago:20251206T140000
DTEND;TZID=America/Chicago:20251206T153000
DTSTAMP:20260423T153718
CREATED:20251011T171457Z
LAST-MODIFIED:20251011T171457Z
UID:10001574-1765029600-1765035000@flwrightwichita.org
SUMMARY:2:00 PM-Standard Tour
DESCRIPTION:The Allen House will be decorated for the holidays November 14-December 31\, 2025. \nFor those Wright enthusiasts who want to learn about the details\, design and history behind the Allen House\, this tour is for you! 90-minute guided tour of the Frank Lloyd Wright Allen House includes all the main rooms\, second floor and interior gardens. This is a walking tour\, and you must be able to navigate stairs. The garden house is NOT included on this tour. (NO interior photography or backpacks allowed.)
URL:https://flwrightwichita.org/event/200-pm-standard-tour-11/
LOCATION:Frank Lloyd Wright Home Tour\, 255 N. Roosevelt\, Wichita\, KS\, 67208\, United States
CATEGORIES:Paid Tours
ATTACH;FMTTYPE=image/jpeg:https://flwrightwichita.org/wp-content/uploads/2025/10/DSC00707-scaled-e1759523179719.jpg
GEO:37.6897851;-97.2923455
X-APPLE-STRUCTURED-LOCATION;VALUE=URI;X-ADDRESS=Frank Lloyd Wright Home Tour 255 N. Roosevelt Wichita KS 67208 United States;X-APPLE-RADIUS=500;X-TITLE=255 N. Roosevelt:geo:-97.2923455,37.6897851
END:VEVENT
END:VCALENDAR