BEGIN:VCALENDAR
VERSION:2.0
PRODID:-//Frank Lloyd Wright&#039;s Allen House - ECPv6.15.20//NONSGML v1.0//EN
CALSCALE:GREGORIAN
METHOD:PUBLISH
X-ORIGINAL-URL:https://flwrightwichita.org
X-WR-CALDESC:Events for Frank Lloyd Wright&#039;s Allen House
REFRESH-INTERVAL;VALUE=DURATION:PT1H
X-Robots-Tag:noindex
X-PUBLISHED-TTL:PT1H
BEGIN:VTIMEZONE
TZID:America/Chicago
BEGIN:DAYLIGHT
TZOFFSETFROM:-0600
TZOFFSETTO:-0500
TZNAME:CDT
DTSTART:20240310T080000
END:DAYLIGHT
BEGIN:STANDARD
TZOFFSETFROM:-0500
TZOFFSETTO:-0600
TZNAME:CST
DTSTART:20241103T070000
END:STANDARD
BEGIN:DAYLIGHT
TZOFFSETFROM:-0600
TZOFFSETTO:-0500
TZNAME:CDT
DTSTART:20250309T080000
END:DAYLIGHT
BEGIN:STANDARD
TZOFFSETFROM:-0500
TZOFFSETTO:-0600
TZNAME:CST
DTSTART:20251102T070000
END:STANDARD
BEGIN:DAYLIGHT
TZOFFSETFROM:-0600
TZOFFSETTO:-0500
TZNAME:CDT
DTSTART:20260308T080000
END:DAYLIGHT
BEGIN:STANDARD
TZOFFSETFROM:-0500
TZOFFSETTO:-0600
TZNAME:CST
DTSTART:20261101T070000
END:STANDARD
END:VTIMEZONE
BEGIN:VEVENT
DTSTART;TZID=America/Chicago:20251216T113000
DTEND;TZID=America/Chicago:20251216T130000
DTSTAMP:20260423T153749
CREATED:20251010T184804Z
LAST-MODIFIED:20251010T184804Z
UID:10001555-1765884600-1765890000@flwrightwichita.org
SUMMARY:11:30 AM-Standard Tour
DESCRIPTION:The Allen House will be decorated for the holidays November 14-December 31\, 2025. \nFor those Wright enthusiasts who want to learn about the details\, design and history behind the Allen House\, this tour is for you! 90-minute guided tour of the Frank Lloyd Wright Allen House includes all the main rooms\, second floor and interior gardens. This is a walking tour\, and you must be able to navigate stairs. The garden house is NOT included on this tour. (NO interior photography or backpacks allowed.)
URL:https://flwrightwichita.org/event/1130-am-standard-tour-273/
LOCATION:Frank Lloyd Wright Home Tour\, 255 N. Roosevelt\, Wichita\, KS\, 67208\, United States
CATEGORIES:Paid Tours
ATTACH;FMTTYPE=image/jpeg:https://flwrightwichita.org/wp-content/uploads/2025/10/DSC00707-scaled-e1759523179719.jpg
GEO:37.6897851;-97.2923455
X-APPLE-STRUCTURED-LOCATION;VALUE=URI;X-ADDRESS=Frank Lloyd Wright Home Tour 255 N. Roosevelt Wichita KS 67208 United States;X-APPLE-RADIUS=500;X-TITLE=255 N. Roosevelt:geo:-97.2923455,37.6897851
END:VEVENT
BEGIN:VEVENT
DTSTART;TZID=America/Chicago:20251216T130000
DTEND;TZID=America/Chicago:20251216T143000
DTSTAMP:20260423T153749
CREATED:20251010T184418Z
LAST-MODIFIED:20251216T164334Z
UID:10001552-1765890000-1765895400@flwrightwichita.org
SUMMARY:1:00 PM-Standard Tour
DESCRIPTION:The Allen House will be decorated for the holidays November 14-December 31\, 2025. \nFor those Wright enthusiasts who want to learn about the details\, design and history behind the Allen House\, this tour is for you! 90-minute guided tour of the Frank Lloyd Wright Allen House includes all the main rooms\, second floor and interior gardens. This is a walking tour\, and you must be able to navigate stairs. The garden house is NOT included on this tour. (NO interior photography or backpacks allowed.)
URL:https://flwrightwichita.org/event/100-pm-standard-tour-271/
LOCATION:Frank Lloyd Wright Home Tour\, 255 N. Roosevelt\, Wichita\, KS\, 67208\, United States
CATEGORIES:Paid Tours
ATTACH;FMTTYPE=image/jpeg:https://flwrightwichita.org/wp-content/uploads/2025/10/DSC00707-scaled-e1759523179719.jpg
GEO:37.6897851;-97.2923455
X-APPLE-STRUCTURED-LOCATION;VALUE=URI;X-ADDRESS=Frank Lloyd Wright Home Tour 255 N. Roosevelt Wichita KS 67208 United States;X-APPLE-RADIUS=500;X-TITLE=255 N. Roosevelt:geo:-97.2923455,37.6897851
END:VEVENT
BEGIN:VEVENT
DTSTART;TZID=America/Chicago:20251216T170000
DTEND;TZID=America/Chicago:20251216T190000
DTSTAMP:20260423T153749
CREATED:20251204T205026Z
LAST-MODIFIED:20251204T205026Z
UID:10001595-1765904400-1765911600@flwrightwichita.org
SUMMARY:5:00 PM-Private Tour
DESCRIPTION:
URL:https://flwrightwichita.org/event/500-pm-private-tour-2/
LOCATION:Frank Lloyd Wright Home Tour\, 255 N. Roosevelt\, Wichita\, KS\, 67208\, United States
CATEGORIES:Paid Tours
ATTACH;FMTTYPE=image/jpeg:https://flwrightwichita.org/wp-content/uploads/2025/12/1764880861.3607988-0E455B97-D8CC-41D6-B148-C0891B2BB9A4.jpg
GEO:37.6897851;-97.2923455
X-APPLE-STRUCTURED-LOCATION;VALUE=URI;X-ADDRESS=Frank Lloyd Wright Home Tour 255 N. Roosevelt Wichita KS 67208 United States;X-APPLE-RADIUS=500;X-TITLE=255 N. Roosevelt:geo:-97.2923455,37.6897851
END:VEVENT
END:VCALENDAR