BEGIN:VCALENDAR
VERSION:2.0
PRODID:-//Frank Lloyd Wright&#039;s Allen House - ECPv6.15.20//NONSGML v1.0//EN
CALSCALE:GREGORIAN
METHOD:PUBLISH
X-WR-CALNAME:Frank Lloyd Wright&#039;s Allen House
X-ORIGINAL-URL:https://flwrightwichita.org
X-WR-CALDESC:Events for Frank Lloyd Wright&#039;s Allen House
REFRESH-INTERVAL;VALUE=DURATION:PT1H
X-Robots-Tag:noindex
X-PUBLISHED-TTL:PT1H
BEGIN:VTIMEZONE
TZID:America/Chicago
BEGIN:DAYLIGHT
TZOFFSETFROM:-0600
TZOFFSETTO:-0500
TZNAME:CDT
DTSTART:20250309T080000
END:DAYLIGHT
BEGIN:STANDARD
TZOFFSETFROM:-0500
TZOFFSETTO:-0600
TZNAME:CST
DTSTART:20251102T070000
END:STANDARD
BEGIN:DAYLIGHT
TZOFFSETFROM:-0600
TZOFFSETTO:-0500
TZNAME:CDT
DTSTART:20260308T080000
END:DAYLIGHT
BEGIN:STANDARD
TZOFFSETFROM:-0500
TZOFFSETTO:-0600
TZNAME:CST
DTSTART:20261101T070000
END:STANDARD
BEGIN:DAYLIGHT
TZOFFSETFROM:-0600
TZOFFSETTO:-0500
TZNAME:CDT
DTSTART:20270314T080000
END:DAYLIGHT
BEGIN:STANDARD
TZOFFSETFROM:-0500
TZOFFSETTO:-0600
TZNAME:CST
DTSTART:20271107T070000
END:STANDARD
END:VTIMEZONE
BEGIN:VEVENT
DTSTART;TZID=America/Chicago:20260404T090000
DTEND;TZID=America/Chicago:20260404T120000
DTSTAMP:20260421T123030
CREATED:20260211T162348Z
LAST-MODIFIED:20260218T180558Z
UID:10001728-1775293200-1775304000@flwrightwichita.org
SUMMARY:9:00 AM- Corbin Combo Tour
DESCRIPTION:This tour encompasses both sites\, the Allen House and Corbin Education Center\, formally known as the Juvenile Cultural Center\, located on the campus of Wichita State University. The tour will begin at 9:00 am at the Frank Lloyd Wright Allen House with a guided standard tour and then you will proceed to the Corbin Education Center for a one-hour guided tour of that structure.  You will provide your own transportation to each site\, and your docent will meet you there. \nINCLUDED WITH THE COMBO TOUR: \nAllen House Standard Tour: \nFor those Wright enthusiasts who want to learn about the details\, design and history behind the Allen House\, this tour is for you! 90-minute guided tour of the Frank Lloyd Wright Allen House includes all the main rooms\, second floor and interior gardens. This is a walking tour\, and you must be able to navigate stairs. The garden house is NOT included on this tour. (NO interior photography or backpacks allowed.) \nProceed to Corbin Education Center located on the campus of Wichita State University: (you must provide your own transportation) \nYou will learn about the details\, design and history behind the Corbin Education Center\, designed in 1957 and dedicated in 1964.  This 60-minute tour of the site will include exterior spaces\, courtyard space\, Dean’s Suite\, public spaces\, classrooms\, second floor and esplanade.  This is a walking tour\, and you must be able to navigate stairs. \nHOW TO GET TO THE CORBIN EDUCATION CENTER FROM ALLEN HOUSE: \nThe Corbin Education Center is located near Hillside & 21st St. It can be accessed from Hillside at Alumni Dr\, then turning left onto Perimeter Rd; or from 21st St on Yale Ave\, then turning left onto Perimeter Rd. Use Parking Lot #10\, south of the Corbin Building. After parking\, proceed across the street to the Bus Stop where we will begin the tour. You can also download a campus map here.
URL:https://flwrightwichita.org/event/900-am-corbin-combo-tour/
LOCATION:Frank Lloyd Wright Home Tour\, 255 N. Roosevelt\, Wichita\, KS\, 67208\, United States
CATEGORIES:Paid Tours
ATTACH;FMTTYPE=image/png:https://flwrightwichita.org/wp-content/uploads/2026/01/Corbin-Combo-Tour-event-image-01.png
GEO:37.6897851;-97.2923455
X-APPLE-STRUCTURED-LOCATION;VALUE=URI;X-ADDRESS=Frank Lloyd Wright Home Tour 255 N. Roosevelt Wichita KS 67208 United States;X-APPLE-RADIUS=500;X-TITLE=255 N. Roosevelt:geo:-97.2923455,37.6897851
END:VEVENT
BEGIN:VEVENT
DTSTART;TZID=America/Chicago:20260404T100000
DTEND;TZID=America/Chicago:20260404T130000
DTSTAMP:20260421T123030
CREATED:20260211T162116Z
LAST-MODIFIED:20260211T162116Z
UID:10001727-1775296800-1775307600@flwrightwichita.org
SUMMARY:10:00 AM-Grand Tour
DESCRIPTION:Grand Tour \nEnjoy a deeper look at Frank Lloyd Wright’s Allen House and Wright’s Architecture. This guided tour will provide an extensive interpretation of the house details and the relationship between Wright and his architecture led by experienced Docents. You will be allowed more time in each room to experience the details of Wright’s architecture and also photograph details for personal use. \nThis tour offers access to the garden house which is not included on other tours. The garden house contains a sampling of items designed by Wright during his lifetime. This is a walking tour\, and you must be able to navigate stairs. \nPlan to spend 2-3 hours in the house/gardens. Interior still photography is allowed for personal use only. In order to receive a quality tour experience\, we limit the number of visitors on this tour. (Not recommended for children under the age of 12.)
URL:https://flwrightwichita.org/event/1000-am-grand-tour-199/
LOCATION:Frank Lloyd Wright Home Tour\, 255 N. Roosevelt\, Wichita\, KS\, 67208\, United States
CATEGORIES:Paid Tours
ATTACH;FMTTYPE=image/png:https://flwrightwichita.org/wp-content/uploads/2025/12/AH-GrandTour-event-image-01.png
GEO:37.6897851;-97.2923455
X-APPLE-STRUCTURED-LOCATION;VALUE=URI;X-ADDRESS=Frank Lloyd Wright Home Tour 255 N. Roosevelt Wichita KS 67208 United States;X-APPLE-RADIUS=500;X-TITLE=255 N. Roosevelt:geo:-97.2923455,37.6897851
END:VEVENT
BEGIN:VEVENT
DTSTART;TZID=America/Chicago:20260404T113000
DTEND;TZID=America/Chicago:20260404T130000
DTSTAMP:20260421T123030
CREATED:20260211T161312Z
LAST-MODIFIED:20260403T154932Z
UID:10001721-1775302200-1775307600@flwrightwichita.org
SUMMARY:11:30 AM-Standard Tour
DESCRIPTION:Standard Tour \nFor those Wright enthusiasts who want to learn about the details\, design and history behind the Allen House\, this tour is for you! \n90-minute guided tour of the Frank Lloyd Wright Allen House includes all the main rooms\, second floor and interior gardens. This is a walking tour\, and you must be able to navigate stairs. The garden house is NOT included on this tour (NO interior photography or backpacks allowed).
URL:https://flwrightwichita.org/event/1130-am-standard-tour-323/
LOCATION:Frank Lloyd Wright Home Tour\, 255 N. Roosevelt\, Wichita\, KS\, 67208\, United States
CATEGORIES:Paid Tours
ATTACH;FMTTYPE=image/png:https://flwrightwichita.org/wp-content/uploads/2025/12/AH-Standard-Tour-event-image-02-01.png
GEO:37.6897851;-97.2923455
X-APPLE-STRUCTURED-LOCATION;VALUE=URI;X-ADDRESS=Frank Lloyd Wright Home Tour 255 N. Roosevelt Wichita KS 67208 United States;X-APPLE-RADIUS=500;X-TITLE=255 N. Roosevelt:geo:-97.2923455,37.6897851
END:VEVENT
BEGIN:VEVENT
DTSTART;TZID=America/Chicago:20260404T123000
DTEND;TZID=America/Chicago:20260404T133000
DTSTAMP:20260421T123030
CREATED:20260310T160257Z
LAST-MODIFIED:20260401T192741Z
UID:10001978-1775305800-1775309400@flwrightwichita.org
SUMMARY:12:30 PM - Elsie Allen Art Tour
DESCRIPTION:Have you ever wondered about the history behind the artwork inside the Allen House?  Come experience an in-depth look at examples of Elsie Allen’s art collection.  Elsie was a major art collector and advocate in Wichita.  She owned over 400 pieces of art at the time of her death.  This tour will explore original pieces of art that are exhibited in the home\, including Japanese prints\, sculptures and fine European paintings.  This tour focus is on the artwork but will also include a “mini-tour” of the home.  Tour length is approx. one hour.  This is a walking tour throughout the home and stairs must be navigated. \nFor a more in-depth tour about the home itself\, please consider our Guided Standard Tour or Grand Tour.
URL:https://flwrightwichita.org/event/1230-pm-elsie-allen-art-tour-2/
LOCATION:Frank Lloyd Wright Home Tour\, 255 N. Roosevelt\, Wichita\, KS\, 67208\, United States
CATEGORIES:Paid Tours
ATTACH;FMTTYPE=image/png:https://flwrightwichita.org/wp-content/uploads/2026/01/AH-Elsie-Allen-Art-Tour-event-image-01-1.png
GEO:37.6897851;-97.2923455
X-APPLE-STRUCTURED-LOCATION;VALUE=URI;X-ADDRESS=Frank Lloyd Wright Home Tour 255 N. Roosevelt Wichita KS 67208 United States;X-APPLE-RADIUS=500;X-TITLE=255 N. Roosevelt:geo:-97.2923455,37.6897851
END:VEVENT
BEGIN:VEVENT
DTSTART;TZID=America/Chicago:20260404T130000
DTEND;TZID=America/Chicago:20260404T143000
DTSTAMP:20260421T123030
CREATED:20260211T161423Z
LAST-MODIFIED:20260403T155047Z
UID:10001722-1775307600-1775313000@flwrightwichita.org
SUMMARY:SOLD OUT 1:00 PM-Standard Tour
DESCRIPTION:Standard Tour \nFor those Wright enthusiasts who want to learn about the details\, design and history behind the Allen House\, this tour is for you! \n90-minute guided tour of the Frank Lloyd Wright Allen House includes all the main rooms\, second floor and interior gardens. This is a walking tour\, and you must be able to navigate stairs. The garden house is NOT included on this tour (NO interior photography or backpacks allowed).
URL:https://flwrightwichita.org/event/100-pm-standard-tour-296/
LOCATION:Frank Lloyd Wright Home Tour\, 255 N. Roosevelt\, Wichita\, KS\, 67208\, United States
CATEGORIES:Paid Tours
ATTACH;FMTTYPE=image/png:https://flwrightwichita.org/wp-content/uploads/2025/12/AH-Standard-Tour-event-image-02-01.png
GEO:37.6897851;-97.2923455
X-APPLE-STRUCTURED-LOCATION;VALUE=URI;X-ADDRESS=Frank Lloyd Wright Home Tour 255 N. Roosevelt Wichita KS 67208 United States;X-APPLE-RADIUS=500;X-TITLE=255 N. Roosevelt:geo:-97.2923455,37.6897851
END:VEVENT
BEGIN:VEVENT
DTSTART;TZID=America/Chicago:20260404T130000
DTEND;TZID=America/Chicago:20260404T150000
DTSTAMP:20260421T123030
CREATED:20260211T163013Z
LAST-MODIFIED:20260328T193243Z
UID:10001730-1775307600-1775314800@flwrightwichita.org
SUMMARY:SOLD OUT-1:00 PM-College Hill Walking Tour
DESCRIPTION:COLLEGE HILL WALKING TOUR \nOn this entirely outdoor walking tour\, you will see the homes of a movie star\, an oil baron\, a Kansas governor\, and much more. The tour will focus on the architecture and the people who built and owned these homes from the 1890's to the 1930's.  The tour lasts approximately 1.5 to 2 hours\, and you will walk about eight blocks. This tour will begin on the Douglas Avenue sidewalk\, in front of St James Episcopal Church at 3750 E. Douglas and end at Blessed Sacrament Church at Douglas and Quentin. \nOut of respect for our neighbors\, we kindly ask that you DO NOT take photographs of personal residences.  These are private homes and still being lived in and we must respect their privacy. \nYou will receive an order confirmation by email and will be added to the reservation list upon the completion of your order.  We do not mail out physical tickets. \nTour moves at a leisurely pace with short periods of standing at designated tour stops.  Considerable walking\, unpaved areas\, uneven sidewalks\, brick streets and cross traffic can be expected.  Weather conditions are highly variable and beyond our control.
URL:https://flwrightwichita.org/event/100-pm-college-hill-walking-tour-11/
LOCATION:Frank Lloyd Wright Home Tour\, 255 N. Roosevelt\, Wichita\, KS\, 67208\, United States
CATEGORIES:Paid Tours
ATTACH;FMTTYPE=image/png:https://flwrightwichita.org/wp-content/uploads/2026/02/College-Hill-Walking-Tour-event-image-01.png
GEO:37.6897851;-97.2923455
X-APPLE-STRUCTURED-LOCATION;VALUE=URI;X-ADDRESS=Frank Lloyd Wright Home Tour 255 N. Roosevelt Wichita KS 67208 United States;X-APPLE-RADIUS=500;X-TITLE=255 N. Roosevelt:geo:-97.2923455,37.6897851
END:VEVENT
BEGIN:VEVENT
DTSTART;TZID=America/Chicago:20260404T133000
DTEND;TZID=America/Chicago:20260404T150000
DTSTAMP:20260421T123030
CREATED:20260211T161541Z
LAST-MODIFIED:20260404T165851Z
UID:10001723-1775309400-1775314800@flwrightwichita.org
SUMMARY:1:30 PM-Standard Tour
DESCRIPTION:Standard Tour \nFor those Wright enthusiasts who want to learn about the details\, design and history behind the Allen House\, this tour is for you! \n90-minute guided tour of the Frank Lloyd Wright Allen House includes all the main rooms\, second floor and interior gardens. This is a walking tour\, and you must be able to navigate stairs. The garden house is NOT included on this tour (NO interior photography or backpacks allowed).
URL:https://flwrightwichita.org/event/130-pm-standard-tour-131/
LOCATION:Frank Lloyd Wright Home Tour\, 255 N. Roosevelt\, Wichita\, KS\, 67208\, United States
CATEGORIES:Paid Tours
ATTACH;FMTTYPE=image/png:https://flwrightwichita.org/wp-content/uploads/2025/12/AH-Standard-Tour-event-image-02-01.png
GEO:37.6897851;-97.2923455
X-APPLE-STRUCTURED-LOCATION;VALUE=URI;X-ADDRESS=Frank Lloyd Wright Home Tour 255 N. Roosevelt Wichita KS 67208 United States;X-APPLE-RADIUS=500;X-TITLE=255 N. Roosevelt:geo:-97.2923455,37.6897851
END:VEVENT
END:VCALENDAR