BEGIN:VCALENDAR
VERSION:2.0
PRODID:-//Frank Lloyd Wright&#039;s Allen House - ECPv6.15.20//NONSGML v1.0//EN
CALSCALE:GREGORIAN
METHOD:PUBLISH
X-WR-CALNAME:Frank Lloyd Wright&#039;s Allen House
X-ORIGINAL-URL:https://flwrightwichita.org
X-WR-CALDESC:Events for Frank Lloyd Wright&#039;s Allen House
REFRESH-INTERVAL;VALUE=DURATION:PT1H
X-Robots-Tag:noindex
X-PUBLISHED-TTL:PT1H
BEGIN:VTIMEZONE
TZID:America/Chicago
BEGIN:DAYLIGHT
TZOFFSETFROM:-0600
TZOFFSETTO:-0500
TZNAME:CDT
DTSTART:20250309T080000
END:DAYLIGHT
BEGIN:STANDARD
TZOFFSETFROM:-0500
TZOFFSETTO:-0600
TZNAME:CST
DTSTART:20251102T070000
END:STANDARD
BEGIN:DAYLIGHT
TZOFFSETFROM:-0600
TZOFFSETTO:-0500
TZNAME:CDT
DTSTART:20260308T080000
END:DAYLIGHT
BEGIN:STANDARD
TZOFFSETFROM:-0500
TZOFFSETTO:-0600
TZNAME:CST
DTSTART:20261101T070000
END:STANDARD
BEGIN:DAYLIGHT
TZOFFSETFROM:-0600
TZOFFSETTO:-0500
TZNAME:CDT
DTSTART:20270314T080000
END:DAYLIGHT
BEGIN:STANDARD
TZOFFSETFROM:-0500
TZOFFSETTO:-0600
TZNAME:CST
DTSTART:20271107T070000
END:STANDARD
END:VTIMEZONE
BEGIN:VEVENT
DTSTART;TZID=America/Chicago:20260418T100000
DTEND;TZID=America/Chicago:20260418T130000
DTSTAMP:20260421T105529
CREATED:20260211T170236Z
LAST-MODIFIED:20260211T170236Z
UID:10001743-1776506400-1776517200@flwrightwichita.org
SUMMARY:10:00 AM-Grand Tour
DESCRIPTION:Grand Tour \nEnjoy a deeper look at Frank Lloyd Wright’s Allen House and Wright’s Architecture. This guided tour will provide an extensive interpretation of the house details and the relationship between Wright and his architecture led by experienced Docents. You will be allowed more time in each room to experience the details of Wright’s architecture and also photograph details for personal use. \nThis tour offers access to the garden house which is not included on other tours. The garden house contains a sampling of items designed by Wright during his lifetime. This is a walking tour\, and you must be able to navigate stairs. \nPlan to spend 2-3 hours in the house/gardens. Interior still photography is allowed for personal use only. In order to receive a quality tour experience\, we limit the number of visitors on this tour. (Not recommended for children under the age of 12.)
URL:https://flwrightwichita.org/event/1000-am-grand-tour-203/
LOCATION:Frank Lloyd Wright Home Tour\, 255 N. Roosevelt\, Wichita\, KS\, 67208\, United States
CATEGORIES:Paid Tours
ATTACH;FMTTYPE=image/png:https://flwrightwichita.org/wp-content/uploads/2025/12/AH-GrandTour-event-image-01.png
GEO:37.6897851;-97.2923455
X-APPLE-STRUCTURED-LOCATION;VALUE=URI;X-ADDRESS=Frank Lloyd Wright Home Tour 255 N. Roosevelt Wichita KS 67208 United States;X-APPLE-RADIUS=500;X-TITLE=255 N. Roosevelt:geo:-97.2923455,37.6897851
END:VEVENT
BEGIN:VEVENT
DTSTART;TZID=America/Chicago:20260418T113000
DTEND;TZID=America/Chicago:20260418T130000
DTSTAMP:20260421T105529
CREATED:20260211T193131Z
LAST-MODIFIED:20260414T203813Z
UID:10001768-1776511800-1776517200@flwrightwichita.org
SUMMARY:SOLD OUT 11:30 AM-Standard Tour
DESCRIPTION:Standard Tour \nFor those Wright enthusiasts who want to learn about the details\, design and history behind the Allen House\, this tour is for you! \n90-minute guided tour of the Frank Lloyd Wright Allen House includes all the main rooms\, second floor and interior gardens. This is a walking tour\, and you must be able to navigate stairs. The garden house is NOT included on this tour (NO interior photography or backpacks allowed).
URL:https://flwrightwichita.org/event/1130-am-standard-tour-333/
LOCATION:Frank Lloyd Wright Home Tour\, 255 N. Roosevelt\, Wichita\, KS\, 67208\, United States
CATEGORIES:Paid Tours
ATTACH;FMTTYPE=image/png:https://flwrightwichita.org/wp-content/uploads/2025/12/AH-Standard-Tour-event-image-02-01.png
GEO:37.6897851;-97.2923455
X-APPLE-STRUCTURED-LOCATION;VALUE=URI;X-ADDRESS=Frank Lloyd Wright Home Tour 255 N. Roosevelt Wichita KS 67208 United States;X-APPLE-RADIUS=500;X-TITLE=255 N. Roosevelt:geo:-97.2923455,37.6897851
END:VEVENT
BEGIN:VEVENT
DTSTART;TZID=America/Chicago:20260418T120000
DTEND;TZID=America/Chicago:20260418T130000
DTSTAMP:20260421T105529
CREATED:20260211T204252Z
LAST-MODIFIED:20260326T145411Z
UID:10001786-1776513600-1776517200@flwrightwichita.org
SUMMARY:12:00 PM-Corbin ONLY Tour
DESCRIPTION:This tour is for guests who have already toured the Allen House and are wanting to ONLY tour the Corbin Education Center\, formally known as the Juvenile Cultural Center\, located on the campus of Wichita State University. The tour will begin at 12:00 pm AT Corbin and will last approximately one hour. \nYou will learn about the details\, design and history behind the Corbin Education Center\, designed in 1957 and dedicated in 1964.  This 60-minute tour of the site will include exterior spaces\, courtyard space\, Dean’s Suite\, public spaces\, classrooms\, second floor and esplanade.  This is a walking tour\, and you must be able to navigate stairs.
URL:https://flwrightwichita.org/event/1200-pm-corbin-only-tour/
LOCATION:Frank Lloyd Wright Home Tour\, 255 N. Roosevelt\, Wichita\, KS\, 67208\, United States
ATTACH;FMTTYPE=image/png:https://flwrightwichita.org/wp-content/uploads/2026/02/Corbin-Only-Tour-event-image-01-01.png
GEO:37.6897851;-97.2923455
X-APPLE-STRUCTURED-LOCATION;VALUE=URI;X-ADDRESS=Frank Lloyd Wright Home Tour 255 N. Roosevelt Wichita KS 67208 United States;X-APPLE-RADIUS=500;X-TITLE=255 N. Roosevelt:geo:-97.2923455,37.6897851
END:VEVENT
BEGIN:VEVENT
DTSTART;TZID=America/Chicago:20260418T130000
DTEND;TZID=America/Chicago:20260418T143000
DTSTAMP:20260421T105529
CREATED:20260211T193246Z
LAST-MODIFIED:20260417T133656Z
UID:10001769-1776517200-1776522600@flwrightwichita.org
SUMMARY:SOLD OUT-1:00 PM-Standard Tour
DESCRIPTION:Standard Tour \nFor those Wright enthusiasts who want to learn about the details\, design and history behind the Allen House\, this tour is for you! \n90-minute guided tour of the Frank Lloyd Wright Allen House includes all the main rooms\, second floor and interior gardens. This is a walking tour\, and you must be able to navigate stairs. The garden house is NOT included on this tour (NO interior photography or backpacks allowed).
URL:https://flwrightwichita.org/event/100-pm-standard-tour-300/
LOCATION:Frank Lloyd Wright Home Tour\, 255 N. Roosevelt\, Wichita\, KS\, 67208\, United States
CATEGORIES:Paid Tours
ATTACH;FMTTYPE=image/png:https://flwrightwichita.org/wp-content/uploads/2025/12/AH-Standard-Tour-event-image-02-01.png
GEO:37.6897851;-97.2923455
X-APPLE-STRUCTURED-LOCATION;VALUE=URI;X-ADDRESS=Frank Lloyd Wright Home Tour 255 N. Roosevelt Wichita KS 67208 United States;X-APPLE-RADIUS=500;X-TITLE=255 N. Roosevelt:geo:-97.2923455,37.6897851
END:VEVENT
BEGIN:VEVENT
DTSTART;TZID=America/Chicago:20260418T130000
DTEND;TZID=America/Chicago:20260418T150000
DTSTAMP:20260421T105529
CREATED:20260211T163307Z
LAST-MODIFIED:20260325T134839Z
UID:10001731-1776517200-1776524400@flwrightwichita.org
SUMMARY:SOLD OUT 1:00 PM-College Hill Walking Tour
DESCRIPTION:COLLEGE HILL WALKING TOUR \nOn this entirely outdoor walking tour\, you will see the homes of a movie star\, an oil baron\, a Kansas governor\, and much more. The tour will focus on the architecture and the people who built and owned these homes from the 1890's to the 1930's.  The tour lasts approximately 1.5 to 2 hours\, and you will walk about eight blocks. This tour will begin on the Douglas Avenue sidewalk\, in front of St James Episcopal Church at 3750 E. Douglas and end at Blessed Sacrament Church at Douglas and Quentin. \nOut of respect for our neighbors\, we kindly ask that you DO NOT take photographs of personal residences.  These are private homes and still being lived in and we must respect their privacy. \nYou will receive an order confirmation by email and will be added to the reservation list upon the completion of your order.  We do not mail out physical tickets. \nTour moves at a leisurely pace with short periods of standing at designated tour stops.  Considerable walking\, unpaved areas\, uneven sidewalks\, brick streets and cross traffic can be expected.  Weather conditions are highly variable and beyond our control.
URL:https://flwrightwichita.org/event/100-pm-college-hill-walking-tour-12/
LOCATION:Frank Lloyd Wright Home Tour\, 255 N. Roosevelt\, Wichita\, KS\, 67208\, United States
CATEGORIES:Paid Tours
ATTACH;FMTTYPE=image/png:https://flwrightwichita.org/wp-content/uploads/2026/02/College-Hill-Walking-Tour-event-image-01.png
GEO:37.6897851;-97.2923455
X-APPLE-STRUCTURED-LOCATION;VALUE=URI;X-ADDRESS=Frank Lloyd Wright Home Tour 255 N. Roosevelt Wichita KS 67208 United States;X-APPLE-RADIUS=500;X-TITLE=255 N. Roosevelt:geo:-97.2923455,37.6897851
END:VEVENT
BEGIN:VEVENT
DTSTART;TZID=America/Chicago:20260418T133000
DTEND;TZID=America/Chicago:20260418T150000
DTSTAMP:20260421T105529
CREATED:20260211T193353Z
LAST-MODIFIED:20260211T193353Z
UID:10001770-1776519000-1776524400@flwrightwichita.org
SUMMARY:1:30 PM-Standard Tour
DESCRIPTION:Standard Tour \nFor those Wright enthusiasts who want to learn about the details\, design and history behind the Allen House\, this tour is for you! \n90-minute guided tour of the Frank Lloyd Wright Allen House includes all the main rooms\, second floor and interior gardens. This is a walking tour\, and you must be able to navigate stairs. The garden house is NOT included on this tour (NO interior photography or backpacks allowed).
URL:https://flwrightwichita.org/event/130-pm-standard-tour-133/
LOCATION:Frank Lloyd Wright Home Tour\, 255 N. Roosevelt\, Wichita\, KS\, 67208\, United States
CATEGORIES:Paid Tours
ATTACH;FMTTYPE=image/png:https://flwrightwichita.org/wp-content/uploads/2025/12/AH-Standard-Tour-event-image-02-01.png
GEO:37.6897851;-97.2923455
X-APPLE-STRUCTURED-LOCATION;VALUE=URI;X-ADDRESS=Frank Lloyd Wright Home Tour 255 N. Roosevelt Wichita KS 67208 United States;X-APPLE-RADIUS=500;X-TITLE=255 N. Roosevelt:geo:-97.2923455,37.6897851
END:VEVENT
BEGIN:VEVENT
DTSTART;TZID=America/Chicago:20260418T140000
DTEND;TZID=America/Chicago:20260418T153000
DTSTAMP:20260421T105529
CREATED:20260211T193503Z
LAST-MODIFIED:20260418T185048Z
UID:10001771-1776520800-1776526200@flwrightwichita.org
SUMMARY:SOLD OUT-2:00 PM-Standard Tour
DESCRIPTION:Standard Tour \nFor those Wright enthusiasts who want to learn about the details\, design and history behind the Allen House\, this tour is for you! \n90-minute guided tour of the Frank Lloyd Wright Allen House includes all the main rooms\, second floor and interior gardens. This is a walking tour\, and you must be able to navigate stairs. The garden house is NOT included on this tour (NO interior photography or backpacks allowed).
URL:https://flwrightwichita.org/event/200-pm-standard-tour-37/
LOCATION:Frank Lloyd Wright Home Tour\, 255 N. Roosevelt\, Wichita\, KS\, 67208\, United States
CATEGORIES:Paid Tours
ATTACH;FMTTYPE=image/png:https://flwrightwichita.org/wp-content/uploads/2025/12/AH-Standard-Tour-event-image-02-01.png
GEO:37.6897851;-97.2923455
X-APPLE-STRUCTURED-LOCATION;VALUE=URI;X-ADDRESS=Frank Lloyd Wright Home Tour 255 N. Roosevelt Wichita KS 67208 United States;X-APPLE-RADIUS=500;X-TITLE=255 N. Roosevelt:geo:-97.2923455,37.6897851
END:VEVENT
END:VCALENDAR