BEGIN:VCALENDAR
VERSION:2.0
PRODID:-//Frank Lloyd Wright&#039;s Allen House - ECPv6.15.20//NONSGML v1.0//EN
CALSCALE:GREGORIAN
METHOD:PUBLISH
X-WR-CALNAME:Frank Lloyd Wright&#039;s Allen House
X-ORIGINAL-URL:https://flwrightwichita.org
X-WR-CALDESC:Events for Frank Lloyd Wright&#039;s Allen House
REFRESH-INTERVAL;VALUE=DURATION:PT1H
X-Robots-Tag:noindex
X-PUBLISHED-TTL:PT1H
BEGIN:VTIMEZONE
TZID:America/Chicago
BEGIN:DAYLIGHT
TZOFFSETFROM:-0600
TZOFFSETTO:-0500
TZNAME:CDT
DTSTART:20250309T080000
END:DAYLIGHT
BEGIN:STANDARD
TZOFFSETFROM:-0500
TZOFFSETTO:-0600
TZNAME:CST
DTSTART:20251102T070000
END:STANDARD
BEGIN:DAYLIGHT
TZOFFSETFROM:-0600
TZOFFSETTO:-0500
TZNAME:CDT
DTSTART:20260308T080000
END:DAYLIGHT
BEGIN:STANDARD
TZOFFSETFROM:-0500
TZOFFSETTO:-0600
TZNAME:CST
DTSTART:20261101T070000
END:STANDARD
BEGIN:DAYLIGHT
TZOFFSETFROM:-0600
TZOFFSETTO:-0500
TZNAME:CDT
DTSTART:20270314T080000
END:DAYLIGHT
BEGIN:STANDARD
TZOFFSETFROM:-0500
TZOFFSETTO:-0600
TZNAME:CST
DTSTART:20271107T070000
END:STANDARD
END:VTIMEZONE
BEGIN:VEVENT
DTSTART;TZID=America/Chicago:20260421T113000
DTEND;TZID=America/Chicago:20260421T130000
DTSTAMP:20260421T032301
CREATED:20260211T200930Z
LAST-MODIFIED:20260211T200930Z
UID:10001772-1776771000-1776776400@flwrightwichita.org
SUMMARY:11:30 AM-Standard Tour
DESCRIPTION:Standard Tour \nFor those Wright enthusiasts who want to learn about the details\, design and history behind the Allen House\, this tour is for you! \n90-minute guided tour of the Frank Lloyd Wright Allen House includes all the main rooms\, second floor and interior gardens. This is a walking tour\, and you must be able to navigate stairs. The garden house is NOT included on this tour (NO interior photography or backpacks allowed).
URL:https://flwrightwichita.org/event/1130-am-standard-tour-334/
LOCATION:Frank Lloyd Wright Home Tour\, 255 N. Roosevelt\, Wichita\, KS\, 67208\, United States
CATEGORIES:Paid Tours
ATTACH;FMTTYPE=image/png:https://flwrightwichita.org/wp-content/uploads/2025/12/AH-Standard-Tour-event-image-02-01.png
GEO:37.6897851;-97.2923455
X-APPLE-STRUCTURED-LOCATION;VALUE=URI;X-ADDRESS=Frank Lloyd Wright Home Tour 255 N. Roosevelt Wichita KS 67208 United States;X-APPLE-RADIUS=500;X-TITLE=255 N. Roosevelt:geo:-97.2923455,37.6897851
END:VEVENT
BEGIN:VEVENT
DTSTART;TZID=America/Chicago:20260421T130000
DTEND;TZID=America/Chicago:20260421T160000
DTSTAMP:20260421T032301
CREATED:20260211T170411Z
LAST-MODIFIED:20260303T190907Z
UID:10001744-1776776400-1776787200@flwrightwichita.org
SUMMARY:1:00 PM-Grand Tour
DESCRIPTION:Grand Tour \nEnjoy a deeper look at Frank Lloyd Wright’s Allen House and Wright’s Architecture. This guided tour will provide an extensive interpretation of the house details and the relationship between Wright and his architecture led by experienced Docents. You will be allowed more time in each room to experience the details of Wright’s architecture and also photograph details for personal use. \nThis tour offers access to the garden house which is not included on other tours. The garden house contains a sampling of items designed by Wright during his lifetime. This is a walking tour\, and you must be able to navigate stairs. \nPlan to spend 2-3 hours in the house/gardens. Interior still photography is allowed for personal use only. In order to receive a quality tour experience\, we limit the number of visitors on this tour. (Not recommended for children under the age of 12.)
URL:https://flwrightwichita.org/event/100-pm-grand-tour-57/
LOCATION:Frank Lloyd Wright Home Tour\, 255 N. Roosevelt\, Wichita\, KS\, 67208\, United States
CATEGORIES:Paid Tours
ATTACH;FMTTYPE=image/png:https://flwrightwichita.org/wp-content/uploads/2025/12/AH-GrandTour-event-image-01.png
GEO:37.6897851;-97.2923455
X-APPLE-STRUCTURED-LOCATION;VALUE=URI;X-ADDRESS=Frank Lloyd Wright Home Tour 255 N. Roosevelt Wichita KS 67208 United States;X-APPLE-RADIUS=500;X-TITLE=255 N. Roosevelt:geo:-97.2923455,37.6897851
END:VEVENT
BEGIN:VEVENT
DTSTART;TZID=America/Chicago:20260421T180000
DTEND;TZID=America/Chicago:20260421T190000
DTSTAMP:20260421T032301
CREATED:20260403T170504Z
LAST-MODIFIED:20260403T171006Z
UID:10001991-1776794400-1776798000@flwrightwichita.org
SUMMARY:6:00 PM Walking Tours Volunteer Information Night
DESCRIPTION:Do you love art\, architecture\, people and have a passion for sharing your knowledge? We want to know you! If you would like to learn more about becoming a Walking Tour Docent\, please join us for our Information Night on Tuesday\, April 21 at 6 p.m. at Allen House. Light refreshments will be served. Please note\, this session is for those interested in becoming Docents for the Walking Tours only. \nLearn about the different tour types from Walking Tour Lead Docent\, Alan; and volunteer expectations\, training and perks from Director of Museum Operations\, Leigh Barton-Green. No prior experience is necessary as training will be provided.  \nSign up by purchasing a free ticket below\, or email LeighBartonGreen@flwrightwichita.org to confirm your attendance.
URL:https://flwrightwichita.org/event/600-pm-walking-tours-volunteer-information-night-2/
LOCATION:Frank Lloyd Wright Home Tour\, 255 N. Roosevelt\, Wichita\, KS\, 67208\, United States
CATEGORIES:Events
ATTACH;FMTTYPE=image/png:https://flwrightwichita.org/wp-content/uploads/2025/12/AH-Standard-Tour-event-image-01-01.png
GEO:37.6897851;-97.2923455
X-APPLE-STRUCTURED-LOCATION;VALUE=URI;X-ADDRESS=Frank Lloyd Wright Home Tour 255 N. Roosevelt Wichita KS 67208 United States;X-APPLE-RADIUS=500;X-TITLE=255 N. Roosevelt:geo:-97.2923455,37.6897851
END:VEVENT
END:VCALENDAR