BEGIN:VCALENDAR
VERSION:2.0
PRODID:-//Frank Lloyd Wright&#039;s Allen House - ECPv6.15.20//NONSGML v1.0//EN
CALSCALE:GREGORIAN
METHOD:PUBLISH
X-WR-CALNAME:Frank Lloyd Wright&#039;s Allen House
X-ORIGINAL-URL:https://flwrightwichita.org
X-WR-CALDESC:Events for Frank Lloyd Wright&#039;s Allen House
REFRESH-INTERVAL;VALUE=DURATION:PT1H
X-Robots-Tag:noindex
X-PUBLISHED-TTL:PT1H
BEGIN:VTIMEZONE
TZID:America/Chicago
BEGIN:DAYLIGHT
TZOFFSETFROM:-0600
TZOFFSETTO:-0500
TZNAME:CDT
DTSTART:20250309T080000
END:DAYLIGHT
BEGIN:STANDARD
TZOFFSETFROM:-0500
TZOFFSETTO:-0600
TZNAME:CST
DTSTART:20251102T070000
END:STANDARD
BEGIN:DAYLIGHT
TZOFFSETFROM:-0600
TZOFFSETTO:-0500
TZNAME:CDT
DTSTART:20260308T080000
END:DAYLIGHT
BEGIN:STANDARD
TZOFFSETFROM:-0500
TZOFFSETTO:-0600
TZNAME:CST
DTSTART:20261101T070000
END:STANDARD
BEGIN:DAYLIGHT
TZOFFSETFROM:-0600
TZOFFSETTO:-0500
TZNAME:CDT
DTSTART:20270314T080000
END:DAYLIGHT
BEGIN:STANDARD
TZOFFSETFROM:-0500
TZOFFSETTO:-0600
TZNAME:CST
DTSTART:20271107T070000
END:STANDARD
END:VTIMEZONE
BEGIN:VEVENT
DTSTART;TZID=America/Chicago:20260426T130000
DTEND;TZID=America/Chicago:20260426T150000
DTSTAMP:20260421T182536
CREATED:20260211T164510Z
LAST-MODIFIED:20260324T140748Z
UID:10001735-1777208400-1777215600@flwrightwichita.org
SUMMARY:SOLD OUT 1:00 PM-Downtown History and Architecture Walking Tour
DESCRIPTION:DOWNTOWN HISTORY and ARCHITECTURE WALKING TOUR \nDo you know about the infamous Old West gun fighter who spent part of his childhood in Wichita? Or the story of the millionaire who paid to build Wichita’s first public library building\, even though he never visited our city? Do you know about the oldest commercial building in Wichita\, built in 1874? Hear all of these stories\, and much more\, on our Downtown History and Architecture Tour! \nThis is an entirely outdoor walking tour\, and it lasts about 1.5 to 2 hours - you will walk about 12 blocks. This tour starts on the Main Street sidewalk\, in front of the Wichita Sedgwick County Historical Museum\, at 204 S. Main Street. \nYou will receive an order confirmation by email and will be added to the reservation list upon the completion of your order.  We do not mail out physical tickets. \nTour moves at a leisurely pace with short periods of standing at designated tour stops.  Considerable walking\, unpaved areas\, uneven sidewalks\, brick streets and cross traffic can be expected.
URL:https://flwrightwichita.org/event/100-pm-downtown-history-and-architecture-walking-tour-3/
LOCATION:Frank Lloyd Wright Home Tour\, 255 N. Roosevelt\, Wichita\, KS\, 67208\, United States
CATEGORIES:Paid Tours
ATTACH;FMTTYPE=image/png:https://flwrightwichita.org/wp-content/uploads/2026/02/Downtown-Architecture-Walking-Tour-event-image-01-01.png
GEO:37.6897851;-97.2923455
X-APPLE-STRUCTURED-LOCATION;VALUE=URI;X-ADDRESS=Frank Lloyd Wright Home Tour 255 N. Roosevelt Wichita KS 67208 United States;X-APPLE-RADIUS=500;X-TITLE=255 N. Roosevelt:geo:-97.2923455,37.6897851
END:VEVENT
END:VCALENDAR