BEGIN:VCALENDAR
VERSION:2.0
PRODID:-//Frank Lloyd Wright&#039;s Allen House - ECPv6.15.20//NONSGML v1.0//EN
CALSCALE:GREGORIAN
METHOD:PUBLISH
X-ORIGINAL-URL:https://flwrightwichita.org
X-WR-CALDESC:Events for Frank Lloyd Wright&#039;s Allen House
REFRESH-INTERVAL;VALUE=DURATION:PT1H
X-Robots-Tag:noindex
X-PUBLISHED-TTL:PT1H
BEGIN:VTIMEZONE
TZID:America/Chicago
BEGIN:DAYLIGHT
TZOFFSETFROM:-0600
TZOFFSETTO:-0500
TZNAME:CDT
DTSTART:20250309T080000
END:DAYLIGHT
BEGIN:STANDARD
TZOFFSETFROM:-0500
TZOFFSETTO:-0600
TZNAME:CST
DTSTART:20251102T070000
END:STANDARD
BEGIN:DAYLIGHT
TZOFFSETFROM:-0600
TZOFFSETTO:-0500
TZNAME:CDT
DTSTART:20260308T080000
END:DAYLIGHT
BEGIN:STANDARD
TZOFFSETFROM:-0500
TZOFFSETTO:-0600
TZNAME:CST
DTSTART:20261101T070000
END:STANDARD
BEGIN:DAYLIGHT
TZOFFSETFROM:-0600
TZOFFSETTO:-0500
TZNAME:CDT
DTSTART:20270314T080000
END:DAYLIGHT
BEGIN:STANDARD
TZOFFSETFROM:-0500
TZOFFSETTO:-0600
TZNAME:CST
DTSTART:20271107T070000
END:STANDARD
END:VTIMEZONE
BEGIN:VEVENT
DTSTART;TZID=America/Chicago:20260520T093000
DTEND;TZID=America/Chicago:20260520T113000
DTSTAMP:20260422T165016
CREATED:20260214T181647Z
LAST-MODIFIED:20260407T191038Z
UID:10001846-1779269400-1779276600@flwrightwichita.org
SUMMARY:9:30 AM-Belmont Place: Between the Arches Walking Tour
DESCRIPTION:BELMONT PLACE: BETWEEN THE ARCHES WALKING TOUR \nOn this entirely outdoor walking tour you will see many beautiful houses and mansions\, including the homes of Walter & Olive Ann Beech (founders of Beech Aircraft Corporation)\, and William Coleman (the founder of the Coleman Company) as well as Al Derby (the owner of Derby Oil) and Jack Vickers (the owner of Vickers Petroleum Company) along with many others.  In the 1920s and 1930s\, Belmont Place was Wichita's most affluent neighborhood\, and home to our city's movers and shakers.  This tour will show you where they lived\, share some of the details of their exciting lives\, and explain how they shaped the development of our city. \nThis walking tour lasts about 1.5 to 2 hours\, and you will walk about eight blocks.  This tour will begin next to the Belmont Arch at E. Douglas & N. Belmont Place (NOT ALLEN HOUSE). Out of respect for our neighbors\, we ask that you do NOT take photos of these personal residences.  These are private homes\, and still being lived in\, and we are sure you understand that we must respect their privacy. \nYou will receive an order confirmation by email and will be added to the reservation list on completion of your order. We do not mail out physical tickets. \nTours move at a leisurely pace\, with short periods of standing at designated tour stops.  Considerable walking\, unpaved areas\, uneven sidewalks\, and cross traffic may be expected. No restroom facilities are available on this entirely outdoor walking tour. \nThis tour is written and provided by the Docents at Frank Lloyd Wright's Allen House and is a part of the Architectural Series.
URL:https://flwrightwichita.org/event/930-am-belmont-place-between-the-arches-walking-tour-3/
LOCATION:Frank Lloyd Wright Home Tour\, 255 N. Roosevelt\, Wichita\, KS\, 67208\, United States
CATEGORIES:Paid Tours
ATTACH;FMTTYPE=image/png:https://flwrightwichita.org/wp-content/uploads/2026/02/Belmont-Place-Walking-Tour-event-image-01.png
GEO:37.6897851;-97.2923455
X-APPLE-STRUCTURED-LOCATION;VALUE=URI;X-ADDRESS=Frank Lloyd Wright Home Tour 255 N. Roosevelt Wichita KS 67208 United States;X-APPLE-RADIUS=500;X-TITLE=255 N. Roosevelt:geo:-97.2923455,37.6897851
END:VEVENT
BEGIN:VEVENT
DTSTART;TZID=America/Chicago:20260520T113000
DTEND;TZID=America/Chicago:20260520T130000
DTSTAMP:20260422T165016
CREATED:20260214T174256Z
LAST-MODIFIED:20260214T174256Z
UID:10001826-1779276600-1779282000@flwrightwichita.org
SUMMARY:11:30 AM-Standard Tour
DESCRIPTION:Standard Tour \nFor those Wright enthusiasts who want to learn about the details\, design and history behind the Allen House\, this tour is for you! \n90-minute guided tour of the Frank Lloyd Wright Allen House includes all the main rooms\, second floor and interior gardens. This is a walking tour\, and you must be able to navigate stairs. The garden house is NOT included on this tour (NO interior photography or backpacks allowed).
URL:https://flwrightwichita.org/event/1130-am-standard-tour-354/
LOCATION:Frank Lloyd Wright Home Tour\, 255 N. Roosevelt\, Wichita\, KS\, 67208\, United States
CATEGORIES:Paid Tours
ATTACH;FMTTYPE=image/png:https://flwrightwichita.org/wp-content/uploads/2025/12/AH-Standard-Tour-event-image-02-01.png
GEO:37.6897851;-97.2923455
X-APPLE-STRUCTURED-LOCATION;VALUE=URI;X-ADDRESS=Frank Lloyd Wright Home Tour 255 N. Roosevelt Wichita KS 67208 United States;X-APPLE-RADIUS=500;X-TITLE=255 N. Roosevelt:geo:-97.2923455,37.6897851
END:VEVENT
BEGIN:VEVENT
DTSTART;TZID=America/Chicago:20260520T140000
DTEND;TZID=America/Chicago:20260520T153000
DTSTAMP:20260422T165016
CREATED:20260214T174405Z
LAST-MODIFIED:20260214T174405Z
UID:10001827-1779285600-1779291000@flwrightwichita.org
SUMMARY:2:00 PM-Standard Tour
DESCRIPTION:Standard Tour \nFor those Wright enthusiasts who want to learn about the details\, design and history behind the Allen House\, this tour is for you! \n90-minute guided tour of the Frank Lloyd Wright Allen House includes all the main rooms\, second floor and interior gardens. This is a walking tour\, and you must be able to navigate stairs. The garden house is NOT included on this tour (NO interior photography or backpacks allowed).
URL:https://flwrightwichita.org/event/200-pm-standard-tour-45/
LOCATION:Frank Lloyd Wright Home Tour\, 255 N. Roosevelt\, Wichita\, KS\, 67208\, United States
CATEGORIES:Paid Tours
ATTACH;FMTTYPE=image/png:https://flwrightwichita.org/wp-content/uploads/2025/12/AH-Standard-Tour-event-image-02-01.png
GEO:37.6897851;-97.2923455
X-APPLE-STRUCTURED-LOCATION;VALUE=URI;X-ADDRESS=Frank Lloyd Wright Home Tour 255 N. Roosevelt Wichita KS 67208 United States;X-APPLE-RADIUS=500;X-TITLE=255 N. Roosevelt:geo:-97.2923455,37.6897851
END:VEVENT
END:VCALENDAR