BEGIN:VCALENDAR
VERSION:2.0
PRODID:-//Frank Lloyd Wright&#039;s Allen House - ECPv6.15.20//NONSGML v1.0//EN
CALSCALE:GREGORIAN
METHOD:PUBLISH
X-WR-CALNAME:Frank Lloyd Wright&#039;s Allen House
X-ORIGINAL-URL:https://flwrightwichita.org
X-WR-CALDESC:Events for Frank Lloyd Wright&#039;s Allen House
REFRESH-INTERVAL;VALUE=DURATION:PT1H
X-Robots-Tag:noindex
X-PUBLISHED-TTL:PT1H
BEGIN:VTIMEZONE
TZID:America/Chicago
BEGIN:DAYLIGHT
TZOFFSETFROM:-0600
TZOFFSETTO:-0500
TZNAME:CDT
DTSTART:20250309T080000
END:DAYLIGHT
BEGIN:STANDARD
TZOFFSETFROM:-0500
TZOFFSETTO:-0600
TZNAME:CST
DTSTART:20251102T070000
END:STANDARD
BEGIN:DAYLIGHT
TZOFFSETFROM:-0600
TZOFFSETTO:-0500
TZNAME:CDT
DTSTART:20260308T080000
END:DAYLIGHT
BEGIN:STANDARD
TZOFFSETFROM:-0500
TZOFFSETTO:-0600
TZNAME:CST
DTSTART:20261101T070000
END:STANDARD
BEGIN:DAYLIGHT
TZOFFSETFROM:-0600
TZOFFSETTO:-0500
TZNAME:CDT
DTSTART:20270314T080000
END:DAYLIGHT
BEGIN:STANDARD
TZOFFSETFROM:-0500
TZOFFSETTO:-0600
TZNAME:CST
DTSTART:20271107T070000
END:STANDARD
END:VTIMEZONE
BEGIN:VEVENT
DTSTART;TZID=America/Chicago:20260606T090000
DTEND;TZID=America/Chicago:20260606T120000
DTSTAMP:20260423T052406
CREATED:20260219T185959Z
LAST-MODIFIED:20260219T185959Z
UID:10001906-1780736400-1780747200@flwrightwichita.org
SUMMARY:9:00 AM-Corbin Combo Tour
DESCRIPTION:CORBIN COMBO TOUR \nThis tour encompasses both sites\, the Allen House and Corbin Education Center\, formally known as the Juvenile Cultural Center\, located on the campus of Wichita State University. The tour will begin at 9:00 am at the Frank Lloyd Wright Allen House with a guided standard tour and then you will proceed to the Corbin Education Center for a one-hour guided tour of that structure.  You will provide your own transportation to each site\, and your docent will meet you there. \nINCLUDED WITH THE COMBO TOUR: \nAllen House Standard Tour: \nFor those Wright enthusiasts who want to learn about the details\, design and history behind the Allen House\, this tour is for you! 90-minute guided tour of the Frank Lloyd Wright Allen House includes all the main rooms\, second floor and interior gardens. This is a walking tour\, and you must be able to navigate stairs. The garden house is NOT included on this tour. (NO interior photography or backpacks allowed.) \nProceed to Corbin Education Center located on the campus of Wichita State University: (you must provide your own transportation) \nYou will learn about the details\, design and history behind the Corbin Education Center\, designed in 1957 and dedicated in 1964.  This 60-minute tour of the site will include exterior spaces\, courtyard space\, Dean’s Suite\, public spaces\, classrooms\, second floor and esplanade.  This is a walking tour\, and you must be able to navigate stairs. \nHOW TO GET TO THE CORBIN EDUCATION CENTER FROM ALLEN HOUSE: \nThe Corbin Education Center is located near Hillside & 21st St. It can be accessed from Hillside at Alumni Dr\, then turning left onto Perimeter Rd; or from 21st St on Yale Ave\, then turning left onto Perimeter Rd. Use Parking Lot #10\, south of the Corbin Building. After parking\, proceed across the street to the Bus Stop where we will begin the tour. You can also download a campus map here.
URL:https://flwrightwichita.org/event/900-am-corbin-combo-tour-3/
LOCATION:Frank Lloyd Wright Home Tour\, 255 N. Roosevelt\, Wichita\, KS\, 67208\, United States
CATEGORIES:Paid Tours
ATTACH;FMTTYPE=image/png:https://flwrightwichita.org/wp-content/uploads/2026/01/Corbin-Combo-Tour-event-image-01.png
GEO:37.6897851;-97.2923455
X-APPLE-STRUCTURED-LOCATION;VALUE=URI;X-ADDRESS=Frank Lloyd Wright Home Tour 255 N. Roosevelt Wichita KS 67208 United States;X-APPLE-RADIUS=500;X-TITLE=255 N. Roosevelt:geo:-97.2923455,37.6897851
END:VEVENT
BEGIN:VEVENT
DTSTART;TZID=America/Chicago:20260606T100000
DTEND;TZID=America/Chicago:20260606T130000
DTSTAMP:20260423T052406
CREATED:20260219T182526Z
LAST-MODIFIED:20260219T182526Z
UID:10001892-1780740000-1780750800@flwrightwichita.org
SUMMARY:10:00 AM-Grand Tour
DESCRIPTION:Grand Tour \nEnjoy a deeper look at Frank Lloyd Wright’s Allen House and Wright’s Architecture. This guided tour will provide an extensive interpretation of the house details and the relationship between Wright and his architecture led by experienced Docents. You will be allowed more time in each room to experience the details of Wright’s architecture and also photograph details for personal use. \nThis tour offers access to the garden house which is not included on other tours. The garden house contains a sampling of items designed by Wright during his lifetime. This is a walking tour\, and you must be able to navigate stairs. \nPlan to spend 2-3 hours in the house/gardens. Interior still photography is allowed for personal use only. In order to receive a quality tour experience\, we limit the number of visitors on this tour. (Not recommended for children under the age of 12.)
URL:https://flwrightwichita.org/event/1000-am-grand-tour-215/
LOCATION:Frank Lloyd Wright Home Tour\, 255 N. Roosevelt\, Wichita\, KS\, 67208\, United States
CATEGORIES:Paid Tours
ATTACH;FMTTYPE=image/png:https://flwrightwichita.org/wp-content/uploads/2025/12/AH-GrandTour-event-image-01.png
GEO:37.6897851;-97.2923455
X-APPLE-STRUCTURED-LOCATION;VALUE=URI;X-ADDRESS=Frank Lloyd Wright Home Tour 255 N. Roosevelt Wichita KS 67208 United States;X-APPLE-RADIUS=500;X-TITLE=255 N. Roosevelt:geo:-97.2923455,37.6897851
END:VEVENT
BEGIN:VEVENT
DTSTART;TZID=America/Chicago:20260606T113000
DTEND;TZID=America/Chicago:20260606T130000
DTSTAMP:20260423T052406
CREATED:20260219T152559Z
LAST-MODIFIED:20260219T152559Z
UID:10001857-1780745400-1780750800@flwrightwichita.org
SUMMARY:11:30 AM-Standard Tour
DESCRIPTION:Standard Tour \nFor those Wright enthusiasts who want to learn about the details\, design and history behind the Allen House\, this tour is for you! \n90-minute guided tour of the Frank Lloyd Wright Allen House includes all the main rooms\, second floor and interior gardens. This is a walking tour\, and you must be able to navigate stairs. The garden house is NOT included on this tour. (NO interior photography or backpacks allowed.)
URL:https://flwrightwichita.org/event/1130-am-standard-tour-366/
LOCATION:Frank Lloyd Wright Home Tour\, 255 N. Roosevelt\, Wichita\, KS\, 67208\, United States
CATEGORIES:Paid Tours
ATTACH;FMTTYPE=image/png:https://flwrightwichita.org/wp-content/uploads/2025/12/AH-Standard-Tour-event-image-02-01.png
GEO:37.6897851;-97.2923455
X-APPLE-STRUCTURED-LOCATION;VALUE=URI;X-ADDRESS=Frank Lloyd Wright Home Tour 255 N. Roosevelt Wichita KS 67208 United States;X-APPLE-RADIUS=500;X-TITLE=255 N. Roosevelt:geo:-97.2923455,37.6897851
END:VEVENT
BEGIN:VEVENT
DTSTART;TZID=America/Chicago:20260606T130000
DTEND;TZID=America/Chicago:20260606T160000
DTSTAMP:20260423T052406
CREATED:20260219T191657Z
LAST-MODIFIED:20260219T212651Z
UID:10001909-1780750800-1780761600@flwrightwichita.org
SUMMARY:1:00-4:00 PM-Discovery Days-Scavenger Hunt
DESCRIPTION:Join us for Discovery Day 2026 at the Allen House and get the chance to explore the art\, architecture\, and design details of Frank Lloyd Wright. If you have never experienced Wright’s architecture before\, then this event is for you! This will give you a glimpse into the world of Wright! You can explore the grounds and first floor of the home all while participating in a scavenger hunt of design details easily found around the home. (All without touching\, moving or opening any historical objects on the property.) This is NOT a formal guided tour of the home. For a more in-depth tour about the home itself\, please consider our Guided Standard Tour\, Grand Tour\, or Moonlight Tour.  For your creative side\, we will have stations set up on the terrace to include architectural books\, LEGO's\, Origami and coloring stations.  FREE for Allen House and Reciprocal Members.  Please show membership upon check-in. \nOnce you have a completed scavenger hunt sheet\, redeem it in the gift shop for 20% off your merchandise purchases! \nLight refreshments provided. \n$10 Non-members \nFREE  Members
URL:https://flwrightwichita.org/event/100-400-pm-discovery-days-scavenger-hunt/
LOCATION:Frank Lloyd Wright Home Tour\, 255 N. Roosevelt\, Wichita\, KS\, 67208\, United States
CATEGORIES:Events
ATTACH;FMTTYPE=image/png:https://flwrightwichita.org/wp-content/uploads/2026/02/AH-Discovery-Day-Event-image-01.png
GEO:37.6897851;-97.2923455
X-APPLE-STRUCTURED-LOCATION;VALUE=URI;X-ADDRESS=Frank Lloyd Wright Home Tour 255 N. Roosevelt Wichita KS 67208 United States;X-APPLE-RADIUS=500;X-TITLE=255 N. Roosevelt:geo:-97.2923455,37.6897851
END:VEVENT
END:VCALENDAR