BEGIN:VCALENDAR
VERSION:2.0
PRODID:-//Frank Lloyd Wright&#039;s Allen House - ECPv6.15.20//NONSGML v1.0//EN
CALSCALE:GREGORIAN
METHOD:PUBLISH
X-ORIGINAL-URL:https://flwrightwichita.org
X-WR-CALDESC:Events for Frank Lloyd Wright&#039;s Allen House
REFRESH-INTERVAL;VALUE=DURATION:PT1H
X-Robots-Tag:noindex
X-PUBLISHED-TTL:PT1H
BEGIN:VTIMEZONE
TZID:America/Chicago
BEGIN:DAYLIGHT
TZOFFSETFROM:-0600
TZOFFSETTO:-0500
TZNAME:CDT
DTSTART:20250309T080000
END:DAYLIGHT
BEGIN:STANDARD
TZOFFSETFROM:-0500
TZOFFSETTO:-0600
TZNAME:CST
DTSTART:20251102T070000
END:STANDARD
BEGIN:DAYLIGHT
TZOFFSETFROM:-0600
TZOFFSETTO:-0500
TZNAME:CDT
DTSTART:20260308T080000
END:DAYLIGHT
BEGIN:STANDARD
TZOFFSETFROM:-0500
TZOFFSETTO:-0600
TZNAME:CST
DTSTART:20261101T070000
END:STANDARD
BEGIN:DAYLIGHT
TZOFFSETFROM:-0600
TZOFFSETTO:-0500
TZNAME:CDT
DTSTART:20270314T080000
END:DAYLIGHT
BEGIN:STANDARD
TZOFFSETFROM:-0500
TZOFFSETTO:-0600
TZNAME:CST
DTSTART:20271107T070000
END:STANDARD
END:VTIMEZONE
BEGIN:VEVENT
DTSTART;TZID=America/Chicago:20260101T000000
DTEND;TZID=America/Chicago:20260131T235959
DTSTAMP:20260423T065825
CREATED:20250617T032231Z
LAST-MODIFIED:20250617T032231Z
UID:10001336-1767225600-1769903999@flwrightwichita.org
SUMMARY:MUSEUM CLOSED FOR RESTORATION AND ANNUAL MAINTENANCE
DESCRIPTION:
URL:https://flwrightwichita.org/event/museum-closed-for-restoration-and-annual-maintenance/
LOCATION:Frank Lloyd Wright Home Tour\, 255 N. Roosevelt\, Wichita\, KS\, 67208\, United States
CATEGORIES:Weekly Schedule
GEO:37.6897851;-97.2923455
X-APPLE-STRUCTURED-LOCATION;VALUE=URI;X-ADDRESS=Frank Lloyd Wright Home Tour 255 N. Roosevelt Wichita KS 67208 United States;X-APPLE-RADIUS=500;X-TITLE=255 N. Roosevelt:geo:-97.2923455,37.6897851
END:VEVENT
BEGIN:VEVENT
DTSTART;TZID=America/Chicago:20260103T100000
DTEND;TZID=America/Chicago:20260103T110000
DTSTAMP:20260423T065825
CREATED:20251009T181349Z
LAST-MODIFIED:20251016T140619Z
UID:10001533-1767434400-1767438000@flwrightwichita.org
SUMMARY:SOLD OUT 10:00 AM-Historic 1927 Hillcrest Apartment Building Tour
DESCRIPTION:Towering over College Hill\, The Hillcrest was built a century ago to the upper-class standards of a bygone age.  This well preserved\, historic building has its own parking garage\, with valet parking\, provides its residents with a 24-hour front desk concierge\, and boasts one of the few remaining manually operated elevators in Kansas.  The inside of this historic gem is rarely seen by any but its residents and their guests\, but we've arranged an opportunity for this special tour. \nTour length:  1 hour \nMeeting Place:  115 S. Rutan St\, 67218
URL:https://flwrightwichita.org/event/1000-am-historic-1927-hillcrest-apartment-building-tour-2/
LOCATION:Frank Lloyd Wright Home Tour\, 255 N. Roosevelt\, Wichita\, KS\, 67208\, United States
CATEGORIES:Paid Tours
GEO:37.6897851;-97.2923455
X-APPLE-STRUCTURED-LOCATION;VALUE=URI;X-ADDRESS=Frank Lloyd Wright Home Tour 255 N. Roosevelt Wichita KS 67208 United States;X-APPLE-RADIUS=500;X-TITLE=255 N. Roosevelt:geo:-97.2923455,37.6897851
END:VEVENT
END:VCALENDAR